Workbook

Sheet HK1
A1: STT | B1: Mã nhân sự | C1: Đơn vị | D1: HỌ VÀ TÊN GIẢNG VIÊN | E1: ĐỀ THI | J1: COI THI | O1: CHẤM THI KTHP | U1: CHẤM THI TỐT NGHIỆP | AD1: DỰ PHÒNG KỲ THI | AE1: GIÁM SÁT | AF1: TỔNG KHỐI LƯỢNG | AG1: =SUBTOTAL(9,AF:AF) -> 1427.2
O2: LÝ THUYẾT | R2: TIỂU LUẬN | U2: LÝ THUYẾT | X2: T.HÀNH CHUNG | AA2: T.HÀNH RIÊNG
E3: SL ĐỀ LT KTHP | F3: SL ĐỀ TN KTHP | G3: SL ĐỀ LT TN | H3: SL ĐỀ TH TN | I3: KL SOẠN ĐỀ (tiết) | J3: KTHPLT COITHI 1 | K3: KTHPLT COITHI 2 | L3: ThiTN COITHI 1 | M3: ThiTN COITHI 2 | N3: KL COITHI (tiết) | O3: SL BÀI LT CHẤM 1 | P3: SL BÀI LT CHẤM 2 | Q3: KL CHẤM LT (tiết) | R3: SL BÀI TL CHẤM 1 | S3: SL BÀI TL CHẤM 2 | T3: KL CHẤM TL (tiết) | U3: SL BÀI LT CHẤM 1 | V3: SL BÀI LT CHẤM 2 | W3: KL CHẤM LT (tiết) | X3: SL BÀI TL CHẤM 1 | Y3: SL BÀI TL CHẤM 2 | Z3: KL CHẤM TL (tiết) | AA3: SL BÀI TL CHẤM 1 | AB3: SL BÀI TL CHẤM 2 | AC3: KL CHẤM TL (tiết)
A4: 1 | B4: 1001001 | C4: Ban Giám hiệu | D4: Phạm Hữu Lộc | E4: 0 | F4: 0 | G4: 0 | H4: 0 | I4: 0 | J4: 0 | K4: 0 | L4: 0 | M4: 0 | N4: 0 | O4: 0 | P4: 0 | Q4: 0 | R4: 0 | S4: 0 | T4: 0 | U4: 0 | V4: 0 | W4: 0 | X4: 0 | Y4: 0 | Z4: 0 | AA4: 0 | AB4: 0 | AC4: 0 | AD4: 0 | AE4: 0 | AF4: 0
A5: 2 | B5: 1001006 | C5: Ban Giám hiệu | D5: Đinh Văn Đệ | E5: 0 | F5: 0 | G5: 0 | H5: 0 | I5: 0 | J5: 0 | K5: 0 | L5: 0 | M5: 0 | N5: 0 | O5: 101 | P5: 105 | Q5: 10.3 | R5: 0 | S5: 0 | T5: 0 | U5: 0 | V5: 0 | W5: 0 | X5: 0 | Y5: 0 | Z5: 0 | AA5: 0 | AB5: 0 | AC5: 0 | AD5: 0 | AE5: 0 | AF5: 10.3
A6: 3 | B6: 1001003 | C6: Ban Giám hiệu | D6: Nguyễn Văn Dũng | E6: 0 | F6: 0 | G6: 0 | H6: 0 | I6: 0 | J6: 0 | K6: 0 | L6: 0 | M6: 0 | N6: 0 | O6: 0 | P6: 0 | Q6: 0 | R6: 0 | S6: 0 | T6: 0 | U6: 0 | V6: 0 | W6: 0 | X6: 0 | Y6: 0 | Z6: 0 | AA6: 0 | AB6: 0 | AC6: 0 | AD6: 0 | AE6: 0 | AF6: 0
A7: 4 | B7: 1012005 | C7: Khoa CN Cơ khí | D7: Đỗ Thị Phương Khanh | E7: 2 | F7: 2 | G7: 0 | H7: 0 | I7: 6 | J7: 9.2 | K7: 4.8 | L7: 0 | M7: 0 | N7: 14 | O7: 102 | P7: 63 | Q7: 8.25 | R7: 0 | S7: 0 | T7: 0 | U7: 0 | V7: 0 | W7: 0 | X7: 0 | Y7: 0 | Z7: 0 | AA7: 0 | AB7: 0 | AC7: 0 | AD7: 0 | AE7: 2.4 | AF7: 30.7
A8: 5 | B8: 1012001 | C8: Khoa CN Cơ khí | D8: Nguyễn Tiến Nhân | E8: 4 | F8: 0 | G8: 0 | H8: 0 | I8: 4 | J8: 4.8 | K8: 4.8 | L8: 0 | M8: 0 | N8: 9.6 | O8: 123 | P8: 103 | Q8: 11.3 | R8: 51 | S8: 249 | T8: 15 | U8: 0 | V8: 0 | W8: 0 | X8: 0 | Y8: 0 | Z8: 0 | AA8: 0 | AB8: 0 | AC8: 0 | AD8: 0 | AE8: 7.2 | AF8: 47.1
A9: 6 | B9: 1012003 | C9: Khoa CN Cơ khí | D9: Chung Trần Thế Vinh | E9: 0 | F9: 0 | G9: 0 | H9: 0 | I9: 0 | J9: 0 | K9: 0 | L9: 0 | M9: 0 | N9: 0 | O9: 66 | P9: 119 | Q9: 9.25 | R9: 0 | S9: 0 | T9: 0 | U9: 0 | V9: 0 | W9: 0 | X9: 0 | Y9: 0 | Z9: 0 | AA9: 0 | AB9: 0 | AC9: 0 | AD9: 0 | AE9: 15.6 | AF9: 24.9
A10: 7 | B10: 1012014 | C10: Khoa CN Cơ khí | D10: Dương Minh Chung | E10: 2 | F10: 0 | G10: 0 | H10: 0 | I10: 2 | J10: 8.8 | K10: 2.4 | L10: 0 | M10: 0 | N10: 11.2 | O10: 105 | P10: 136 | Q10: 12.05 | R10: 0 | S10: 0 | T10: 0 | U10: 0 | V10: 0 | W10: 0 | X10: 0 | Y10: 0 | Z10: 0 | AA10: 0 | AB10: 0 | AC10: 0 | AD10: 1.2 | AE10: 6 | AF10: 32.5
A11: 8 | B11: 1012004 | C11: Khoa CN Cơ khí | D11: Phan Văn Thành | E11: 0 | F11: 0 | G11: 0 | H11: 0 | I11: 0 | J11: 11.6 | K11: 0 | L11: 0 | M11: 0 | N11: 11.6 | O11: 0 | P11: 0 | Q11: 0 | R11: 0 | S11: 0 | T11: 0 | U11: 0 | V11: 0 | W11: 0 | X11: 0 | Y11: 0 | Z11: 0 | AA11: 0 | AB11: 0 | AC11: 0 | AD11: 0 | AE11: 0 | AF11: 11.6
A12: 9 | B12: 1012020 | C12: Khoa CN Cơ khí | D12: Trần Minh Thông | E12: 1 | F12: 0 | G12: 0 | H12: 0 | I12: 1 | J12: 8 | K12: 3.2 | L12: 0 | M12: 0 | N12: 11.2 | O12: 170 | P12: 134 | Q12: 15.2 | R12: 0 | S12: 0 | T12: 0 | U12: 0 | V12: 0 | W12: 0 | X12: 0 | Y12: 0 | Z12: 0 | AA12: 0 | AB12: 0 | AC12: 0 | AD12: 1.2 | AE12: 0 | AF12: 28.6
A13: 10 | B13: 1012021 | C13: Khoa CN Cơ khí | D13: Trần Thị Hương | E13: 1 | F13: 6 | G13: 0 | H13: 0 | I13: 13 | J13: 2.4 | K13: 15.2 | L13: 0 | M13: 0 | N13: 17.6 | O13: 98 | P13: 107 | Q13: 10.25 | R13: 0 | S13: 45 | T13: 2.25 | U13: 0 | V13: 0 | W13: 0 | X13: 0 | Y13: 0 | Z13: 0 | AA13: 0 | AB13: 0 | AC13: 0 | AD13: 1.2 | AE13: 0 | AF13: 44.3
A14: 11 | B14: 1012022 | C14: Khoa CN Cơ khí | D14: Nguyễn Duy Hải | E14: 0 | F14: 0 | G14: 0 | H14: 0 | I14: 0 | J14: 7.2 | K14: 0 | L14: 0 | M14: 0 | N14: 7.2 | O14: 0 | P14: 0 | Q14: 0 | R14: 0 | S14: 0 | T14: 0 | U14: 0 | V14: 0 | W14: 0 | X14: 0 | Y14: 0 | Z14: 0 | AA14: 0 | AB14: 0 | AC14: 0 | AD14: 1.2 | AE14: 5.2 | AF14: 13.6
A15: 12 | B15: 1012013 | C15: Khoa CN Cơ khí | D15: Vũ Đức Pháp | E15: 2 | F15: 0 | G15: 0 | H15: 0 | I15: 2 | J15: 12.8 | K15: 0 | L15: 0 | M15: 0 | N15: 12.8 | O15: 35 | P15: 0 | Q15: 1.75 | R15: 0 | S15: 0 | T15: 0 | U15: 0 | V15: 0 | W15: 0 | X15: 0 | Y15: 0 | Z15: 0 | AA15: 0 | AB15: 0 | AC15: 0 | AD15: 1.2 | AE15: 3.6 | AF15: 21.4
... A429: 426 | B429: 1022025 | C429: Trường THPT LTT | D429: Võ Thị Thu Thuỷ | E429: 0 | F429: 0 | G429: 0 | H429: 0 | I429: 0 | J429: 0 | K429: 0 | L429: 0 | M429: 0 | N429: 0 | O429: 0 | P429: 0 | Q429: 0 | R429: 0 | S429: 0 | T429: 0 | U429: 0 | V429: 0 | W429: 0 | X429: 0 | Y429: 0 | Z429: 0 | AA429: 0 | AB429: 0 | AC429: 0 | AD429: 0 | AE429: 0 | AF429: 0
A430: =IF(D430="","",SUBTOTAL(3,$D$4:D430))
A431: =IF(D431="","",SUBTOTAL(3,$D$4:D431))
A432: =IF(D432="","",SUBTOTAL(3,$D$4:D432))
A433: =IF(D433="","",SUBTOTAL(3,$D$4:D433))
A434: =IF(D434="","",SUBTOTAL(3,$D$4:D434))
A435: =IF(D435="","",SUBTOTAL(3,$D$4:D435))
A436: =IF(D436="","",SUBTOTAL(3,$D$4:D436))
A437: =IF(D437="","",SUBTOTAL(3,$D$4:D437))
A438: =IF(D438="","",SUBTOTAL(3,$D$4:D438))
A439: =IF(D439="","",SUBTOTAL(3,$D$4:D439))
A440: =IF(D440="","",SUBTOTAL(3,$D$4:D440))
A441: =IF(D441="","",SUBTOTAL(3,$D$4:D441))
... A500: =IF(D500="","",SUBTOTAL(3,$D$4:D500))
E501: =SUBTOTAL(9,E2:E500) -> 17 | F501: =SUBTOTAL(9,F2:F500) -> 31 | G501: =SUBTOTAL(9,G2:G500) -> 0 | H501: =SUBTOTAL(9,H2:H500) -> 0 | I501: =SUBTOTAL(9,I2:I500) -> 79 | J501: =SUBTOTAL(9,J2:J500) -> 211.2 | K501: =SUBTOTAL(9,K2:K500) -> 219.6 | L501: =SUBTOTAL(9,L2:L500) -> 0 | ... AF501: =SUBTOTAL(9,AF2:AF500) -> 1427.2

Sheet HK2
A1: STT | B1: Mã nhân sự | C1: Đơn vị | D1: HỌ VÀ TÊN GIẢNG VIÊN | E1: ĐỀ THI | J1: COI THI | O1: CHẤM THI KTHP | U1: CHẤM THI TỐT NGHIỆP | AD1: DỰ PHÒNG KỲ THI | AE1: GIÁM SÁT | AF1: TỔNG KHỐI LƯỢNG | AG1: =SUBTOTAL(9,AF:AF) -> 4075.6
O2: LÝ THUYẾT | R2: TIỂU LUẬN | U2: LÝ THUYẾT | X2: T.HÀNH CHUNG | AA2: T.HÀNH RIÊNG
E3: SL ĐỀ LT KTHP | F3: SL ĐỀ TN KTHP | G3: SL ĐỀ LT TN | H3: SL ĐỀ TH TN | I3: KL SOẠN ĐỀ (tiết) | J3: KTHPLT COITHI 1 | K3: KTHPLT COITHI 2 | L3: ThiTN COITHI 1 | M3: ThiTN COITHI 2 | N3: KL COITHI (tiết) | O3: SL BÀI LT CHẤM 1 | P3: SL BÀI LT CHẤM 2 | Q3: KL CHẤM LT (tiết) | R3: SL BÀI TL CHẤM 1 | S3: SL BÀI TL CHẤM 2 | T3: KL CHẤM TL (tiết) | U3: SL BÀI LT CHẤM 1 | V3: SL BÀI LT CHẤM 2 | W3: KL CHẤM LT (tiết) | X3: SL BÀI TL CHẤM 1 | Y3: SL BÀI TL CHẤM 2 | Z3: KL CHẤM TL (tiết) | AA3: SL BÀI TL CHẤM 1 | AB3: SL BÀI TL CHẤM 2 | AC3: KL CHẤM TL (tiết)
A4: 1 | B4: 1001001 | C4: Ban Giám hiệu | D4: Phạm Hữu Lộc | E4: 0 | F4: 0 | G4: 0 | H4: 0 | I4: 0 | J4: 0 | K4: 0 | L4: 0 | M4: 0 | N4: 0 | O4: 0 | P4: 0 | Q4: 0 | R4: 0 | S4: 0 | T4: 0 | U4: 0 | V4: 0 | W4: 0 | X4: 0 | Y4: 0 | Z4: 0 | AA4: 0 | AB4: 0 | AC4: 0 | AD4: 0 | AE4: 0 | AF4: 0
A5: 2 | B5: 1001006 | C5: Ban Giám hiệu | D5: Đinh Văn Đệ | E5: 0 | F5: 0 | G5: 0 | H5: 0 | I5: 0 | J5: 0 | K5: 0 | L5: 0 | M5: 0 | N5: 0 | O5: 0 | P5: 0 | Q5: 0 | R5: 94 | S5: 0 | T5: 4.7 | U5: 0 | V5: 0 | W5: 0 | X5: 0 | Y5: 0 | Z5: 0 | AA5: 0 | AB5: 0 | AC5: 0 | AD5: 0 | AE5: 0 | AF5: 4.7
A6: 3 | B6: 1001003 | C6: Ban Giám hiệu | D6: Nguyễn Văn Dũng | E6: 0 | F6: 0 | G6: 0 | H6: 0 | I6: 0 | J6: 0 | K6: 0 | L6: 0 | M6: 0 | N6: 0 | O6: 0 | P6: 0 | Q6: 0 | R6: 0 | S6: 0 | T6: 0 | U6: 0 | V6: 0 | W6: 0 | X6: 0 | Y6: 0 | Z6: 0 | AA6: 0 | AB6: 0 | AC6: 0 | AD6: 0 | AE6: 0 | AF6: 0
A7: 4 | B7: 1012005 | C7: Khoa CN Cơ khí | D7: Đỗ Thị Phương Khanh | E7: 0 | F7: 1 | G7: 0 | H7: 0 | I7: 2 | J7: 5.2 | K7: 0 | L7: 0 | M7: 0 | N7: 5.2 | O7: 0 | P7: 0 | Q7: 0 | R7: 97 | S7: 106 | T7: 10.15 | U7: 0 | V7: 0 | W7: 0 | X7: 0 | Y7: 0 | Z7: 0 | AA7: 0 | AB7: 0 | AC7: 0 | AD7: 0 | AE7: 0 | AF7: 17.4
A8: 5 | B8: 1012001 | C8: Khoa CN Cơ khí | D8: Nguyễn Tiến Nhân | E8: 4 | F8: 0 | G8: 0 | H8: 0 | I8: 4 | J8: 4.4 | K8: 0 | L8: 1.6 | M8: 0 | N8: 6 | O8: 35 | P8: 0 | Q8: 1.75 | R8: 157 | S8: 94 | T8: 12.55 | U8: 0 | V8: 0 | W8: 0 | X8: 0 | Y8: 0 | Z8: 0 | AA8: 0 | AB8: 0 | AC8: 0 | AD8: 0 | AE8: 2.4 | AF8: 26.7
A9: 6 | B9: 1012003 | C9: Khoa CN Cơ khí | D9: Chung Trần Thế Vinh | E9: 0 | F9: 0 | G9: 0 | H9: 0 | I9: 0 | J9: 0 | K9: 0 | L9: 0 | M9: 0 | N9: 0 | O9: 0 | P9: 0 | Q9: 0 | R9: 0 | S9: 94 | T9: 4.7 | U9: 0 | V9: 0 | W9: 0 | X9: 0 | Y9: 0 | Z9: 0 | AA9: 0 | AB9: 0 | AC9: 0 | AD9: 1.6 | AE9: 13.6 | AF9: 19.9
A10: 7 | B10: 1012014 | C10: Khoa CN Cơ khí | D10: Dương Minh Chung | E10: 2 | F10: 0 | G10: 0 | H10: 0 | I10: 2 | J10: 0 | K10: 1.2 | L10: 0 | M10: 0 | N10: 1.2 | O10: 117 | P10: 99 | Q10: 10.8 | R10: 0 | S10: 0 | T10: 0 | U10: 0 | V10: 0 | W10: 0 | X10: 18 | Y10: 0 | Z10: 1.8 | AA10: 0 | AB10: 0 | AC10: 0 | AD10: 0 | AE10: 5.6 | AF10: 21.4
A11: 8 | B11: 1012004 | C11: Khoa CN Cơ khí | D11: Phan Văn Thành | E11: 0 | F11: 0 | G11: 0 | H11: 0 | I11: 0 | J11: 10 | K11: 1.2 | L11: 0 | M11: 0 | N11: 11.2 | O11: 0 | P11: 0 | Q11: 0 | R11: 0 | S11: 0 | T11: 0 | U11: 0 | V11: 0 | W11: 0 | X11: 1 | Y11: 0 | Z11: 0.1 | AA11: 0 | AB11: 0 | AC11: 0 | AD11: 1.2 | AE11: 0 | AF11: 12.5
A12: 9 | B12: 1012020 | C12: Khoa CN Cơ khí | D12: Trần Minh Thông | E12: 9 | F12: 0 | G12: 0 | H12: 0 | I12: 9 | J12: 12.8 | K12: 0 | L12: 0 | M12: 0 | N12: 12.8 | O12: 138 | P12: 130 | Q12: 13.4 | R12: 106 | S12: 201 | T12: 15.35 | U12: 0 | V12: 0 | W12: 0 | X12: 0 | Y12: 0 | Z12: 0 | AA12: 0 | AB12: 0 | AC12: 0 | AD12: 0 | AE12: 0 | AF12: 50.6
A13: 10 | B13: 1012021 | C13: Khoa CN Cơ khí | D13: Trần Thị Hương | E13: 0 | F13: 10 | G13: 0 | H13: 0 | I13: 20 | J13: 0 | K13: 7.6 | L13: 0 | M13: 0 | N13: 7.6 | O13: 0 | P13: 0 | Q13: 0 | R13: 0 | S13: 0 | T13: 0 | U13: 0 | V13: 0 | W13: 0 | X13: 0 | Y13: 0 | Z13: 0 | AA13: 0 | AB13: 0 | AC13: 0 | AD13: 1.2 | AE13: 0 | AF13: 28.8
A14: 11 | B14: 1012022 | C14: Khoa CN Cơ khí | D14: Nguyễn Duy Hải | E14: 2 | F14: 0 | G14: 0 | H14: 0 | I14: 2 | J14: 5.6 | K14: 2.4 | L14: 0 | M14: 0 | N14: 8 | O14: 132 | P14: 103 | Q14: 11.75 | R14: 0 | S14: 68 | T14: 3.4 | U14: 19 | V14: 0 | W14: 1.3571429 | X14: 0 | Y14: 1 | Z14: 0.1 | AA14: 0 | AB14: 0 | AC14: 0 | AD14: 1.2 | AE14: 2.4 | AF14: 30.2
A15: 12 | B15: 1012013 | C15: Khoa CN Cơ khí | D15: Vũ Đức Pháp | E15: 2 | F15: 0 | G15: 0 | H15: 0 | I15: 2 | J15: 10.8 | K15: 0 | L15: 0 | M15: 0 | N15: 10.8 | O15: 34 | P15: 144 | Q15: 8.9 | R15: 0 | S15: 0 | T15: 0 | U15: 0 | V15: 19 | W15: 1.3571429 | X15: 0 | Y15: 18 | Z15: 1.8 | AA15: 0 | AB15: 0 | AC15: 0 | AD15: 0 | AE15: 0 | AF15: 24.9
... A429: 426 | B429: 1022025 | C429: Trường THPT LTT | D429: Võ Thị Thu Thuỷ | E429: 0 | F429: 0 | G429: 0 | H429: 0 | I429: 0 | J429: 0 | K429: 0 | L429: 0 | M429: 0 | N429: 0 | O429: 0 | P429: 0 | Q429: 0 | R429: 0 | S429: 0 | T429: 0 | U429: 0 | V429: 0 | W429: 0 | X429: 0 | Y429: 0 | Z429: 0 | AA429: 0 | AB429: 0 | AC429: 0 | AD429: 0 | AE429: 0 | AF429: 0
A430: =IF(D430="","",SUBTOTAL(3,$D$4:D430))
A431: =IF(D431="","",SUBTOTAL(3,$D$4:D431))
A432: =IF(D432="","",SUBTOTAL(3,$D$4:D432))
A433: =IF(D433="","",SUBTOTAL(3,$D$4:D433))
A434: =IF(D434="","",SUBTOTAL(3,$D$4:D434))
A435: =IF(D435="","",SUBTOTAL(3,$D$4:D435))
A436: =IF(D436="","",SUBTOTAL(3,$D$4:D436))
A437: =IF(D437="","",SUBTOTAL(3,$D$4:D437))
A438: =IF(D438="","",SUBTOTAL(3,$D$4:D438))
A439: =IF(D439="","",SUBTOTAL(3,$D$4:D439))
A440: =IF(D440="","",SUBTOTAL(3,$D$4:D440))
A441: =IF(D441="","",SUBTOTAL(3,$D$4:D441))
... A500: =IF(D500="","",SUBTOTAL(3,$D$4:D500))
E501: =SUBTOTAL(9,E2:E500) -> 314 | F501: =SUBTOTAL(9,F2:F500) -> 84 | G501: =SUBTOTAL(9,G2:G500) -> 16 | H501: =SUBTOTAL(9,H2:H500) -> 8 | I501: =SUBTOTAL(9,I2:I500) -> 546 | J501: =SUBTOTAL(9,J2:J500) -> 744 | K501: =SUBTOTAL(9,K2:K500) -> 740.4 | L501: =SUBTOTAL(9,L2:L500) -> 17.6 | ... AF501: =SUBTOTAL(9,AF2:AF500) -> 4075.6

Sheet CA NĂM
A1: STT | B1: Mã nhân sự | C1: Đơn vị | D1: HỌ VÀ TÊN GIẢNG VIÊN | E1: ĐỀ THI | J1: COI THI | O1: CHẤM THI KTHP | U1: CHẤM THI TỐT NGHIỆP | AD1: DỰ PHÒNG KỲ THI | AE1: GIÁM SÁT | AF1: TỔNG KHỐI LƯỢNG | AG1: =SUBTOTAL(9,AF:AF) -> 9777.9
O2: LÝ THUYẾT | R2: TIỂU LUẬN | U2: LÝ THUYẾT | X2: T.HÀNH CHUNG | AA2: T.HÀNH RIÊNG
E3: SL ĐỀ LT KTHP | F3: SL ĐỀ TN KTHP | G3: SL ĐỀ LT TN | H3: SL ĐỀ TH TN | I3: KL SOẠN ĐỀ (tiết) | J3: KTHPLT COITHI 1 | K3: KTHPLT COITHI 2 | L3: ThiTN COITHI 1 | M3: ThiTN COITHI 2 | N3: KL COITHI (tiết) | O3: SL BÀI LT CHẤM 1 | P3: SL BÀI LT CHẤM 2 | Q3: KL CHẤM LT (tiết) | R3: SL BÀI TL CHẤM 1 | S3: SL BÀI TL CHẤM 2 | T3: KL CHẤM TL (tiết) | U3: SL BÀI LT CHẤM 1 | V3: SL BÀI LT CHẤM 2 | W3: KL CHẤM LT (tiết) | X3: SL BÀI TL CHẤM 1 | Y3: SL BÀI TL CHẤM 2 | Z3: KL CHẤM TL (tiết) | AA3: SL BÀI TL CHẤM 1 | AB3: SL BÀI TL CHẤM 2 | AC3: KL CHẤM TL (tiết)
A4: 1 | B4: 1001001 | C4: Ban Giám hiệu | D4: Phạm Hữu Lộc | E4: =IF(D4="","",VLOOKUP(D4,'HK1'!D4:AF73,2,0)+VLOOKUP(D4,'HK2'!D4:AF73,2,0)) -> 0 | F4: =IF(D4="","",VLOOKUP(D4,'HK1'!D4:AF73,3,0)+VLOOKUP(D4,'HK2'!D4:AF73,3,0)) -> 0 | G4: =IF(D4="","",VLOOKUP(D4,'HK1'!D4:AF73,4,0)+VLOOKUP(D4,'HK2'!D4:AF73,4,0)) -> 0 | H4: =IF(D4="","",VLOOKUP(D4,'HK1'!D4:AF73,5,0)+VLOOKUP(D4,'HK2'!D4:AF73,5,0)) -> 0 | I4: =IF(D4="","",VLOOKUP(D4,'HK1'!D4:AF73,6,0)+VLOOKUP(D4,'HK2'!D4:AF73,6,0)) -> 0 | J4: =IF(D4="","",VLOOKUP(D4,'HK1'!D4:AF73,7,0)+VLOOKUP(D4,'HK2'!D4:AF73,7,0)) -> 0 | K4: =IF(D4="","",VLOOKUP(D4,'HK1'!D4:AF73,8,0)+VLOOKUP(D4,'HK2'!D4:AF73,8,0)) -> 0 | L4: =IF(D4="","",VLOOKUP(D4,'HK1'!D4:AF73,9,0)+VLOOKUP(D4,'HK2'!D4:AF73,9,0)) -> 0 | M4: =IF(D4="","",VLOOKUP(D4,'HK1'!D4:AF73,10,0)+VLOOKUP(D4,'HK2'!D4:AF73,10,0)) -> 0 | N4: =IF(D4="","",VLOOKUP(D4,'HK1'!D4:AF73,11,0)+VLOOKUP(D4,'HK2'!D4:AF73,11,0)) -> 0 | O4: =IF(D4="","",VLOOKUP(D4,'HK1'!D4:AF73,12,0)+VLOOKUP(D4,'HK2'!D4:AF73,12,0)) -> 0 | P4: =IF(D4="","",VLOOKUP(D4,'HK1'!D4:AF73,13,0)+VLOOKUP(D4,'HK2'!D4:AF73,13,0)) -> 0 | Q4: =IF(D4="","",VLOOKUP(D4,'HK1'!D4:AF73,14,0)+VLOOKUP(D4,'HK2'!D4:AF73,14,0)) -> 0 | R4: =IF(D4="","",VLOOKUP(D4,'HK1'!D4:AF73,15,0)+VLOOKUP(D4,'HK2'!D4:AF73,15,0)) -> 0 | S4: =IF(D4="","",VLOOKUP(D4,'HK1'!D4:AF73,16,0)+VLOOKUP(D4,'HK2'!D4:AF73,16,0)) -> 0 | T4: =IF(D4="","",VLOOKUP(D4,'HK1'!D4:AF73,17,0)+VLOOKUP(D4,'HK2'!D4:AF73,17,0)) -> 0 | U4: =IF(D4="","",VLOOKUP(D4,'HK1'!D4:AF73,18,0)+VLOOKUP(D4,'HK2'!D4:AF73,18,0)) -> 0 | V4: =IF(D4="","",VLOOKUP(D4,'HK1'!D4:AF73,19,0)+VLOOKUP(D4,'HK2'!D4:AF73,19,0)) -> 0 | W4: =IF(D4="","",VLOOKUP(D4,'HK1'!D4:AF73,20,0)+VLOOKUP(D4,'HK2'!D4:AF73,20,0)) -> 0 | X4: =IF(D4="","",VLOOKUP(D4,'HK1'!D4:AF73,21,0)+VLOOKUP(D4,'HK2'!D4:AF73,21,0)) -> 0 | Y4: =IF(D4="","",VLOOKUP(D4,'HK1'!D4:AF73,22,0)+VLOOKUP(D4,'HK2'!D4:AF73,22,0)) -> 0 | Z4: =IF(D4="","",VLOOKUP(D4,'HK1'!D4:AF73,23,0)+VLOOKUP(D4,'HK2'!D4:AF73,23,0)) -> 0 | AA4: =IF(D4="","",VLOOKUP(D4,'HK1'!D4:AF73,24,0)+VLOOKUP(D4,'HK2'!D4:AF73,24,0)) -> 0 | AB4: =IF(D4="","",VLOOKUP(D4,'HK1'!D4:AF73,25,0)+VLOOKUP(D4,'HK2'!D4:AF73,25,0)) -> 0 | AC4: =IF(D4="","",VLOOKUP(D4,'HK1'!D4:AF73,26,0)+VLOOKUP(D4,'HK2'!D4:AF73,26,0)) -> 0 | AD4: =IF(D4="","",VLOOKUP(D4,'HK1'!D4:AF73,27,0)+VLOOKUP(D4,'HK2'!D4:AF73,27,0)) -> 0 | AE4: =IF(D4="","",VLOOKUP(D4,'HK1'!D4:AF73,28,0)+VLOOKUP(D4,'HK2'!D4:AF73,28,0)) -> 0 | AF4: =IF(D4="","",VLOOKUP(D4,'HK1'!D4:AF73,29,0)+VLOOKUP(D4,'HK2'!D4:AF73,29,0)) -> 0 | AG4: =IF(AF4="","",ROUND(AF4*10/3,1)) -> 0
A5: 2 | B5: 1001006 | C5: Ban Giám hiệu | D5: Đinh Văn Đệ | E5: =IF(D5="","",VLOOKUP(D5,'HK1'!D5:AF74,2,0)+VLOOKUP(D5,'HK2'!D5:AF74,2,0)) -> 0 | F5: =IF(D5="","",VLOOKUP(D5,'HK1'!D5:AF74,3,0)+VLOOKUP(D5,'HK2'!D5:AF74,3,0)) -> 0 | G5: =IF(D5="","",VLOOKUP(D5,'HK1'!D5:AF74,4,0)+VLOOKUP(D5,'HK2'!D5:AF74,4,0)) -> 0 | H5: =IF(D5="","",VLOOKUP(D5,'HK1'!D5:AF74,5,0)+VLOOKUP(D5,'HK2'!D5:AF74,5,0)) -> 0 | I5: =IF(D5="","",VLOOKUP(D5,'HK1'!D5:AF74,6,0)+VLOOKUP(D5,'HK2'!D5:AF74,6,0)) -> 0 | J5: =IF(D5="","",VLOOKUP(D5,'HK1'!D5:AF74,7,0)+VLOOKUP(D5,'HK2'!D5:AF74,7,0)) -> 0 | K5: =IF(D5="","",VLOOKUP(D5,'HK1'!D5:AF74,8,0)+VLOOKUP(D5,'HK2'!D5:AF74,8,0)) -> 0 | L5: =IF(D5="","",VLOOKUP(D5,'HK1'!D5:AF74,9,0)+VLOOKUP(D5,'HK2'!D5:AF74,9,0)) -> 0 | M5: =IF(D5="","",VLOOKUP(D5,'HK1'!D5:AF74,10,0)+VLOOKUP(D5,'HK2'!D5:AF74,10,0)) -> 0 | N5: =IF(D5="","",VLOOKUP(D5,'HK1'!D5:AF74,11,0)+VLOOKUP(D5,'HK2'!D5:AF74,11,0)) -> 0 | O5: =IF(D5="","",VLOOKUP(D5,'HK1'!D5:AF74,12,0)+VLOOKUP(D5,'HK2'!D5:AF74,12,0)) -> 101 | P5: =IF(D5="","",VLOOKUP(D5,'HK1'!D5:AF74,13,0)+VLOOKUP(D5,'HK2'!D5:AF74,13,0)) -> 105 | Q5: =IF(D5="","",VLOOKUP(D5,'HK1'!D5:AF74,14,0)+VLOOKUP(D5,'HK2'!D5:AF74,14,0)) -> 10.3 | R5: =IF(D5="","",VLOOKUP(D5,'HK1'!D5:AF74,15,0)+VLOOKUP(D5,'HK2'!D5:AF74,15,0)) -> 94 | S5: =IF(D5="","",VLOOKUP(D5,'HK1'!D5:AF74,16,0)+VLOOKUP(D5,'HK2'!D5:AF74,16,0)) -> 0 | T5: =IF(D5="","",VLOOKUP(D5,'HK1'!D5:AF74,17,0)+VLOOKUP(D5,'HK2'!D5:AF74,17,0)) -> 4.7 | U5: =IF(D5="","",VLOOKUP(D5,'HK1'!D5:AF74,18,0)+VLOOKUP(D5,'HK2'!D5:AF74,18,0)) -> 0 | V5: =IF(D5="","",VLOOKUP(D5,'HK1'!D5:AF74,19,0)+VLOOKUP(D5,'HK2'!D5:AF74,19,0)) -> 0 | W5: =IF(D5="","",VLOOKUP(D5,'HK1'!D5:AF74,20,0)+VLOOKUP(D5,'HK2'!D5:AF74,20,0)) -> 0 | X5: =IF(D5="","",VLOOKUP(D5,'HK1'!D5:AF74,21,0)+VLOOKUP(D5,'HK2'!D5:AF74,21,0)) -> 0 | Y5: =IF(D5="","",VLOOKUP(D5,'HK1'!D5:AF74,22,0)+VLOOKUP(D5,'HK2'!D5:AF74,22,0)) -> 0 | Z5: =IF(D5="","",VLOOKUP(D5,'HK1'!D5:AF74,23,0)+VLOOKUP(D5,'HK2'!D5:AF74,23,0)) -> 0 | AA5: =IF(D5="","",VLOOKUP(D5,'HK1'!D5:AF74,24,0)+VLOOKUP(D5,'HK2'!D5:AF74,24,0)) -> 0 | AB5: =IF(D5="","",VLOOKUP(D5,'HK1'!D5:AF74,25,0)+VLOOKUP(D5,'HK2'!D5:AF74,25,0)) -> 0 | AC5: =IF(D5="","",VLOOKUP(D5,'HK1'!D5:AF74,26,0)+VLOOKUP(D5,'HK2'!D5:AF74,26,0)) -> 0 | AD5: =IF(D5="","",VLOOKUP(D5,'HK1'!D5:AF74,27,0)+VLOOKUP(D5,'HK2'!D5:AF74,27,0)) -> 0 | AE5: =IF(D5="","",VLOOKUP(D5,'HK1'!D5:AF74,28,0)+VLOOKUP(D5,'HK2'!D5:AF74,28,0)) -> 0 | AF5: =IF(D5="","",VLOOKUP(D5,'HK1'!D5:AF74,29,0)+VLOOKUP(D5,'HK2'!D5:AF74,29,0)) -> 15 | AG5: =IF(AF5="","",ROUND(AF5*10/3,1)) -> 50
A6: 3 | B6: 1001003 | C6: Ban Giám hiệu | D6: Nguyễn Văn Dũng | E6: =IF(D6="","",VLOOKUP(D6,'HK1'!D6:AF75,2,0)+VLOOKUP(D6,'HK2'!D6:AF75,2,0)) -> 0 | F6: =IF(D6="","",VLOOKUP(D6,'HK1'!D6:AF75,3,0)+VLOOKUP(D6,'HK2'!D6:AF75,3,0)) -> 0 | G6: =IF(D6="","",VLOOKUP(D6,'HK1'!D6:AF75,4,0)+VLOOKUP(D6,'HK2'!D6:AF75,4,0)) -> 0 | H6: =IF(D6="","",VLOOKUP(D6,'HK1'!D6:AF75,5,0)+VLOOKUP(D6,'HK2'!D6:AF75,5,0)) -> 0 | I6: =IF(D6="","",VLOOKUP(D6,'HK1'!D6:AF75,6,0)+VLOOKUP(D6,'HK2'!D6:AF75,6,0)) -> 0 | J6: =IF(D6="","",VLOOKUP(D6,'HK1'!D6:AF75,7,0)+VLOOKUP(D6,'HK2'!D6:AF75,7,0)) -> 0 | K6: =IF(D6="","",VLOOKUP(D6,'HK1'!D6:AF75,8,0)+VLOOKUP(D6,'HK2'!D6:AF75,8,0)) -> 0 | L6: =IF(D6="","",VLOOKUP(D6,'HK1'!D6:AF75,9,0)+VLOOKUP(D6,'HK2'!D6:AF75,9,0)) -> 0 | M6: =IF(D6="","",VLOOKUP(D6,'HK1'!D6:AF75,10,0)+VLOOKUP(D6,'HK2'!D6:AF75,10,0)) -> 0 | N6: =IF(D6="","",VLOOKUP(D6,'HK1'!D6:AF75,11,0)+VLOOKUP(D6,'HK2'!D6:AF75,11,0)) -> 0 | O6: =IF(D6="","",VLOOKUP(D6,'HK1'!D6:AF75,12,0)+VLOOKUP(D6,'HK2'!D6:AF75,12,0)) -> 0 | P6: =IF(D6="","",VLOOKUP(D6,'HK1'!D6:AF75,13,0)+VLOOKUP(D6,'HK2'!D6:AF75,13,0)) -> 0 | Q6: =IF(D6="","",VLOOKUP(D6,'HK1'!D6:AF75,14,0)+VLOOKUP(D6,'HK2'!D6:AF75,14,0)) -> 0 | R6: =IF(D6="","",VLOOKUP(D6,'HK1'!D6:AF75,15,0)+VLOOKUP(D6,'HK2'!D6:AF75,15,0)) -> 0 | S6: =IF(D6="","",VLOOKUP(D6,'HK1'!D6:AF75,16,0)+VLOOKUP(D6,'HK2'!D6:AF75,16,0)) -> 0 | T6: =IF(D6="","",VLOOKUP(D6,'HK1'!D6:AF75,17,0)+VLOOKUP(D6,'HK2'!D6:AF75,17,0)) -> 0 | U6: =IF(D6="","",VLOOKUP(D6,'HK1'!D6:AF75,18,0)+VLOOKUP(D6,'HK2'!D6:AF75,18,0)) -> 0 | V6: =IF(D6="","",VLOOKUP(D6,'HK1'!D6:AF75,19,0)+VLOOKUP(D6,'HK2'!D6:AF75,19,0)) -> 0 | W6: =IF(D6="","",VLOOKUP(D6,'HK1'!D6:AF75,20,0)+VLOOKUP(D6,'HK2'!D6:AF75,20,0)) -> 0 | X6: =IF(D6="","",VLOOKUP(D6,'HK1'!D6:AF75,21,0)+VLOOKUP(D6,'HK2'!D6:AF75,21,0)) -> 0 | Y6: =IF(D6="","",VLOOKUP(D6,'HK1'!D6:AF75,22,0)+VLOOKUP(D6,'HK2'!D6:AF75,22,0)) -> 0 | Z6: =IF(D6="","",VLOOKUP(D6,'HK1'!D6:AF75,23,0)+VLOOKUP(D6,'HK2'!D6:AF75,23,0)) -> 0 | AA6: =IF(D6="","",VLOOKUP(D6,'HK1'!D6:AF75,24,0)+VLOOKUP(D6,'HK2'!D6:AF75,24,0)) -> 0 | AB6: =IF(D6="","",VLOOKUP(D6,'HK1'!D6:AF75,25,0)+VLOOKUP(D6,'HK2'!D6:AF75,25,0)) -> 0 | AC6: =IF(D6="","",VLOOKUP(D6,'HK1'!D6:AF75,26,0)+VLOOKUP(D6,'HK2'!D6:AF75,26,0)) -> 0 | AD6: =IF(D6="","",VLOOKUP(D6,'HK1'!D6:AF75,27,0)+VLOOKUP(D6,'HK2'!D6:AF75,27,0)) -> 0 | AE6: =IF(D6="","",VLOOKUP(D6,'HK1'!D6:AF75,28,0)+VLOOKUP(D6,'HK2'!D6:AF75,28,0)) -> 0 | AF6: =IF(D6="","",VLOOKUP(D6,'HK1'!D6:AF75,29,0)+VLOOKUP(D6,'HK2'!D6:AF75,29,0)) -> 0 | AG6: =IF(AF6="","",ROUND(AF6*10/3,1)) -> 0
A7: 4 | B7: 1012005 | C7: Khoa CN Cơ khí | D7: Đỗ Thị Phương Khanh | E7: =IF(D7="","",VLOOKUP(D7,'HK1'!D7:AF76,2,0)+VLOOKUP(D7,'HK2'!D7:AF76,2,0)) -> 2 | F7: =IF(D7="","",VLOOKUP(D7,'HK1'!D7:AF76,3,0)+VLOOKUP(D7,'HK2'!D7:AF76,3,0)) -> 3 | G7: =IF(D7="","",VLOOKUP(D7,'HK1'!D7:AF76,4,0)+VLOOKUP(D7,'HK2'!D7:AF76,4,0)) -> 0 | H7: =IF(D7="","",VLOOKUP(D7,'HK1'!D7:AF76,5,0)+VLOOKUP(D7,'HK2'!D7:AF76,5,0)) -> 0 | I7: =IF(D7="","",VLOOKUP(D7,'HK1'!D7:AF76,6,0)+VLOOKUP(D7,'HK2'!D7:AF76,6,0)) -> 8 | J7: =IF(D7="","",VLOOKUP(D7,'HK1'!D7:AF76,7,0)+VLOOKUP(D7,'HK2'!D7:AF76,7,0)) -> 14.4 | K7: =IF(D7="","",VLOOKUP(D7,'HK1'!D7:AF76,8,0)+VLOOKUP(D7,'HK2'!D7:AF76,8,0)) -> 4.8 | L7: =IF(D7="","",VLOOKUP(D7,'HK1'!D7:AF76,9,0)+VLOOKUP(D7,'HK2'!D7:AF76,9,0)) -> 0 | M7: =IF(D7="","",VLOOKUP(D7,'HK1'!D7:AF76,10,0)+VLOOKUP(D7,'HK2'!D7:AF76,10,0)) -> 0 | N7: =IF(D7="","",VLOOKUP(D7,'HK1'!D7:AF76,11,0)+VLOOKUP(D7,'HK2'!D7:AF76,11,0)) -> 19.2 | O7: =IF(D7="","",VLOOKUP(D7,'HK1'!D7:AF76,12,0)+VLOOKUP(D7,'HK2'!D7:AF76,12,0)) -> 102 | P7: =IF(D7="","",VLOOKUP(D7,'HK1'!D7:AF76,13,0)+VLOOKUP(D7,'HK2'!D7:AF76,13,0)) -> 63 | Q7: =IF(D7="","",VLOOKUP(D7,'HK1'!D7:AF76,14,0)+VLOOKUP(D7,'HK2'!D7:AF76,14,0)) -> 8.25 | R7: =IF(D7="","",VLOOKUP(D7,'HK1'!D7:AF76,15,0)+VLOOKUP(D7,'HK2'!D7:AF76,15,0)) -> 97 | S7: =IF(D7="","",VLOOKUP(D7,'HK1'!D7:AF76,16,0)+VLOOKUP(D7,'HK2'!D7:AF76,16,0)) -> 106 | T7: =IF(D7="","",VLOOKUP(D7,'HK1'!D7:AF76,17,0)+VLOOKUP(D7,'HK2'!D7:AF76,17,0)) -> 10.15 | U7: =IF(D7="","",VLOOKUP(D7,'HK1'!D7:AF76,18,0)+VLOOKUP(D7,'HK2'!D7:AF76,18,0)) -> 0 | V7: =IF(D7="","",VLOOKUP(D7,'HK1'!D7:AF76,19,0)+VLOOKUP(D7,'HK2'!D7:AF76,19,0)) -> 0 | W7: =IF(D7="","",VLOOKUP(D7,'HK1'!D7:AF76,20,0)+VLOOKUP(D7,'HK2'!D7:AF76,20,0)) -> 0 | X7: =IF(D7="","",VLOOKUP(D7,'HK1'!D7:AF76,21,0)+VLOOKUP(D7,'HK2'!D7:AF76,21,0)) -> 0 | Y7: =IF(D7="","",VLOOKUP(D7,'HK1'!D7:AF76,22,0)+VLOOKUP(D7,'HK2'!D7:AF76,22,0)) -> 0 | Z7: =IF(D7="","",VLOOKUP(D7,'HK1'!D7:AF76,23,0)+VLOOKUP(D7,'HK2'!D7:AF76,23,0)) -> 0 | AA7: =IF(D7="","",VLOOKUP(D7,'HK1'!D7:AF76,24,0)+VLOOKUP(D7,'HK2'!D7:AF76,24,0)) -> 0 | AB7: =IF(D7="","",VLOOKUP(D7,'HK1'!D7:AF76,25,0)+VLOOKUP(D7,'HK2'!D7:AF76,25,0)) -> 0 | AC7: =IF(D7="","",VLOOKUP(D7,'HK1'!D7:AF76,26,0)+VLOOKUP(D7,'HK2'!D7:AF76,26,0)) -> 0 | AD7: =IF(D7="","",VLOOKUP(D7,'HK1'!D7:AF76,27,0)+VLOOKUP(D7,'HK2'!D7:AF76,27,0)) -> 0 | AE7: =IF(D7="","",VLOOKUP(D7,'HK1'!D7:AF76,28,0)+VLOOKUP(D7,'HK2'!D7:AF76,28,0)) -> 2.4 | AF7: =IF(D7="","",VLOOKUP(D7,'HK1'!D7:AF76,29,0)+VLOOKUP(D7,'HK2'!D7:AF76,29,0)) -> 48.1 | AG7: =IF(AF7="","",ROUND(AF7*10/3,1)) -> 160.3
A8: 5 | B8: 1012001 | C8: Khoa CN Cơ khí | D8: Nguyễn Tiến Nhân | E8: =IF(D8="","",VLOOKUP(D8,'HK1'!D8:AF77,2,0)+VLOOKUP(D8,'HK2'!D8:AF77,2,0)) -> 8 | F8: =IF(D8="","",VLOOKUP(D8,'HK1'!D8:AF77,3,0)+VLOOKUP(D8,'HK2'!D8:AF77,3,0)) -> 0 | G8: =IF(D8="","",VLOOKUP(D8,'HK1'!D8:AF77,4,0)+VLOOKUP(D8,'HK2'!D8:AF77,4,0)) -> 0 | H8: =IF(D8="","",VLOOKUP(D8,'HK1'!D8:AF77,5,0)+VLOOKUP(D8,'HK2'!D8:AF77,5,0)) -> 0 | I8: =IF(D8="","",VLOOKUP(D8,'HK1'!D8:AF77,6,0)+VLOOKUP(D8,'HK2'!D8:AF77,6,0)) -> 8 | J8: =IF(D8="","",VLOOKUP(D8,'HK1'!D8:AF77,7,0)+VLOOKUP(D8,'HK2'!D8:AF77,7,0)) -> 9.2 | K8: =IF(D8="","",VLOOKUP(D8,'HK1'!D8:AF77,8,0)+VLOOKUP(D8,'HK2'!D8:AF77,8,0)) -> 4.8 | L8: =IF(D8="","",VLOOKUP(D8,'HK1'!D8:AF77,9,0)+VLOOKUP(D8,'HK2'!D8:AF77,9,0)) -> 1.6 | M8: =IF(D8="","",VLOOKUP(D8,'HK1'!D8:AF77,10,0)+VLOOKUP(D8,'HK2'!D8:AF77,10,0)) -> 0 | N8: =IF(D8="","",VLOOKUP(D8,'HK1'!D8:AF77,11,0)+VLOOKUP(D8,'HK2'!D8:AF77,11,0)) -> 15.6 | O8: =IF(D8="","",VLOOKUP(D8,'HK1'!D8:AF77,12,0)+VLOOKUP(D8,'HK2'!D8:AF77,12,0)) -> 158 | P8: =IF(D8="","",VLOOKUP(D8,'HK1'!D8:AF77,13,0)+VLOOKUP(D8,'HK2'!D8:AF77,13,0)) -> 103 | Q8: =IF(D8="","",VLOOKUP(D8,'HK1'!D8:AF77,14,0)+VLOOKUP(D8,'HK2'!D8:AF77,14,0)) -> 13.05 | R8: =IF(D8="","",VLOOKUP(D8,'HK1'!D8:AF77,15,0)+VLOOKUP(D8,'HK2'!D8:AF77,15,0)) -> 208 | S8: =IF(D8="","",VLOOKUP(D8,'HK1'!D8:AF77,16,0)+VLOOKUP(D8,'HK2'!D8:AF77,16,0)) -> 343 | T8: =IF(D8="","",VLOOKUP(D8,'HK1'!D8:AF77,17,0)+VLOOKUP(D8,'HK2'!D8:AF77,17,0)) -> 27.55 | U8: =IF(D8="","",VLOOKUP(D8,'HK1'!D8:AF77,18,0)+VLOOKUP(D8,'HK2'!D8:AF77,18,0)) -> 0 | V8: =IF(D8="","",VLOOKUP(D8,'HK1'!D8:AF77,19,0)+VLOOKUP(D8,'HK2'!D8:AF77,19,0)) -> 0 | W8: =IF(D8="","",VLOOKUP(D8,'HK1'!D8:AF77,20,0)+VLOOKUP(D8,'HK2'!D8:AF77,20,0)) -> 0 | X8: =IF(D8="","",VLOOKUP(D8,'HK1'!D8:AF77,21,0)+VLOOKUP(D8,'HK2'!D8:AF77,21,0)) -> 0 | Y8: =IF(D8="","",VLOOKUP(D8,'HK1'!D8:AF77,22,0)+VLOOKUP(D8,'HK2'!D8:AF77,22,0)) -> 0 | Z8: =IF(D8="","",VLOOKUP(D8,'HK1'!D8:AF77,23,0)+VLOOKUP(D8,'HK2'!D8:AF77,23,0)) -> 0 | AA8: =IF(D8="","",VLOOKUP(D8,'HK1'!D8:AF77,24,0)+VLOOKUP(D8,'HK2'!D8:AF77,24,0)) -> 0 | AB8: =IF(D8="","",VLOOKUP(D8,'HK1'!D8:AF77,25,0)+VLOOKUP(D8,'HK2'!D8:AF77,25,0)) -> 0 | AC8: =IF(D8="","",VLOOKUP(D8,'HK1'!D8:AF77,26,0)+VLOOKUP(D8,'HK2'!D8:AF77,26,0)) -> 0 | AD8: =IF(D8="","",VLOOKUP(D8,'HK1'!D8:AF77,27,0)+VLOOKUP(D8,'HK2'!D8:AF77,27,0)) -> 0 | AE8: =IF(D8="","",VLOOKUP(D8,'HK1'!D8:AF77,28,0)+VLOOKUP(D8,'HK2'!D8:AF77,28,0)) -> 9.6 | AF8: =IF(D8="","",VLOOKUP(D8,'HK1'!D8:AF77,29,0)+VLOOKUP(D8,'HK2'!D8:AF77,29,0)) -> 73.8 | AG8: =IF(AF8="","",ROUND(AF8*10/3,1)) -> 246
A9: 6 | B9: 1012003 | C9: Khoa CN Cơ khí | D9: Chung Trần Thế Vinh | E9: =IF(D9="","",VLOOKUP(D9,'HK1'!D9:AF78,2,0)+VLOOKUP(D9,'HK2'!D9:AF78,2,0)) -> 0 | F9: =IF(D9="","",VLOOKUP(D9,'HK1'!D9:AF78,3,0)+VLOOKUP(D9,'HK2'!D9:AF78,3,0)) -> 0 | G9: =IF(D9="","",VLOOKUP(D9,'HK1'!D9:AF78,4,0)+VLOOKUP(D9,'HK2'!D9:AF78,4,0)) -> 0 | H9: =IF(D9="","",VLOOKUP(D9,'HK1'!D9:AF78,5,0)+VLOOKUP(D9,'HK2'!D9:AF78,5,0)) -> 0 | I9: =IF(D9="","",VLOOKUP(D9,'HK1'!D9:AF78,6,0)+VLOOKUP(D9,'HK2'!D9:AF78,6,0)) -> 0 | J9: =IF(D9="","",VLOOKUP(D9,'HK1'!D9:AF78,7,0)+VLOOKUP(D9,'HK2'!D9:AF78,7,0)) -> 0 | K9: =IF(D9="","",VLOOKUP(D9,'HK1'!D9:AF78,8,0)+VLOOKUP(D9,'HK2'!D9:AF78,8,0)) -> 0 | L9: =IF(D9="","",VLOOKUP(D9,'HK1'!D9:AF78,9,0)+VLOOKUP(D9,'HK2'!D9:AF78,9,0)) -> 0 | M9: =IF(D9="","",VLOOKUP(D9,'HK1'!D9:AF78,10,0)+VLOOKUP(D9,'HK2'!D9:AF78,10,0)) -> 0 | N9: =IF(D9="","",VLOOKUP(D9,'HK1'!D9:AF78,11,0)+VLOOKUP(D9,'HK2'!D9:AF78,11,0)) -> 0 | O9: =IF(D9="","",VLOOKUP(D9,'HK1'!D9:AF78,12,0)+VLOOKUP(D9,'HK2'!D9:AF78,12,0)) -> 66 | P9: =IF(D9="","",VLOOKUP(D9,'HK1'!D9:AF78,13,0)+VLOOKUP(D9,'HK2'!D9:AF78,13,0)) -> 119 | Q9: =IF(D9="","",VLOOKUP(D9,'HK1'!D9:AF78,14,0)+VLOOKUP(D9,'HK2'!D9:AF78,14,0)) -> 9.25 | R9: =IF(D9="","",VLOOKUP(D9,'HK1'!D9:AF78,15,0)+VLOOKUP(D9,'HK2'!D9:AF78,15,0)) -> 0 | S9: =IF(D9="","",VLOOKUP(D9,'HK1'!D9:AF78,16,0)+VLOOKUP(D9,'HK2'!D9:AF78,16,0)) -> 94 | T9: =IF(D9="","",VLOOKUP(D9,'HK1'!D9:AF78,17,0)+VLOOKUP(D9,'HK2'!D9:AF78,17,0)) -> 4.7 | U9: =IF(D9="","",VLOOKUP(D9,'HK1'!D9:AF78,18,0)+VLOOKUP(D9,'HK2'!D9:AF78,18,0)) -> 0 | V9: =IF(D9="","",VLOOKUP(D9,'HK1'!D9:AF78,19,0)+VLOOKUP(D9,'HK2'!D9:AF78,19,0)) -> 0 | W9: =IF(D9="","",VLOOKUP(D9,'HK1'!D9:AF78,20,0)+VLOOKUP(D9,'HK2'!D9:AF78,20,0)) -> 0 | X9: =IF(D9="","",VLOOKUP(D9,'HK1'!D9:AF78,21,0)+VLOOKUP(D9,'HK2'!D9:AF78,21,0)) -> 0 | Y9: =IF(D9="","",VLOOKUP(D9,'HK1'!D9:AF78,22,0)+VLOOKUP(D9,'HK2'!D9:AF78,22,0)) -> 0 | Z9: =IF(D9="","",VLOOKUP(D9,'HK1'!D9:AF78,23,0)+VLOOKUP(D9,'HK2'!D9:AF78,23,0)) -> 0 | AA9: =IF(D9="","",VLOOKUP(D9,'HK1'!D9:AF78,24,0)+VLOOKUP(D9,'HK2'!D9:AF78,24,0)) -> 0 | AB9: =IF(D9="","",VLOOKUP(D9,'HK1'!D9:AF78,25,0)+VLOOKUP(D9,'HK2'!D9:AF78,25,0)) -> 0 | AC9: =IF(D9="","",VLOOKUP(D9,'HK1'!D9:AF78,26,0)+VLOOKUP(D9,'HK2'!D9:AF78,26,0)) -> 0 | AD9: =IF(D9="","",VLOOKUP(D9,'HK1'!D9:AF78,27,0)+VLOOKUP(D9,'HK2'!D9:AF78,27,0)) -> 1.6 | AE9: =IF(D9="","",VLOOKUP(D9,'HK1'!D9:AF78,28,0)+VLOOKUP(D9,'HK2'!D9:AF78,28,0)) -> 29.2 | AF9: =IF(D9="","",VLOOKUP(D9,'HK1'!D9:AF78,29,0)+VLOOKUP(D9,'HK2'!D9:AF78,29,0)) -> 44.8 | AG9: =IF(AF9="","",ROUND(AF9*10/3,1)) -> 149.3
A10: 7 | B10: 1012014 | C10: Khoa CN Cơ khí | D10: Dương Minh Chung | E10: =IF(D10="","",VLOOKUP(D10,'HK1'!D10:AF79,2,0)+VLOOKUP(D10,'HK2'!D10:AF79,2,0)) -> 4 | F10: =IF(D10="","",VLOOKUP(D10,'HK1'!D10:AF79,3,0)+VLOOKUP(D10,'HK2'!D10:AF79,3,0)) -> 0 | G10: =IF(D10="","",VLOOKUP(D10,'HK1'!D10:AF79,4,0)+VLOOKUP(D10,'HK2'!D10:AF79,4,0)) -> 0 | H10: =IF(D10="","",VLOOKUP(D10,'HK1'!D10:AF79,5,0)+VLOOKUP(D10,'HK2'!D10:AF79,5,0)) -> 0 | I10: =IF(D10="","",VLOOKUP(D10,'HK1'!D10:AF79,6,0)+VLOOKUP(D10,'HK2'!D10:AF79,6,0)) -> 4 | J10: =IF(D10="","",VLOOKUP(D10,'HK1'!D10:AF79,7,0)+VLOOKUP(D10,'HK2'!D10:AF79,7,0)) -> 8.8 | K10: =IF(D10="","",VLOOKUP(D10,'HK1'!D10:AF79,8,0)+VLOOKUP(D10,'HK2'!D10:AF79,8,0)) -> 3.6 | L10: =IF(D10="","",VLOOKUP(D10,'HK1'!D10:AF79,9,0)+VLOOKUP(D10,'HK2'!D10:AF79,9,0)) -> 0 | M10: =IF(D10="","",VLOOKUP(D10,'HK1'!D10:AF79,10,0)+VLOOKUP(D10,'HK2'!D10:AF79,10,0)) -> 0 | N10: =IF(D10="","",VLOOKUP(D10,'HK1'!D10:AF79,11,0)+VLOOKUP(D10,'HK2'!D10:AF79,11,0)) -> 12.4 | O10: =IF(D10="","",VLOOKUP(D10,'HK1'!D10:AF79,12,0)+VLOOKUP(D10,'HK2'!D10:AF79,12,0)) -> 222 | P10: =IF(D10="","",VLOOKUP(D10,'HK1'!D10:AF79,13,0)+VLOOKUP(D10,'HK2'!D10:AF79,13,0)) -> 235 | Q10: =IF(D10="","",VLOOKUP(D10,'HK1'!D10:AF79,14,0)+VLOOKUP(D10,'HK2'!D10:AF79,14,0)) -> 22.85 | R10: =IF(D10="","",VLOOKUP(D10,'HK1'!D10:AF79,15,0)+VLOOKUP(D10,'HK2'!D10:AF79,15,0)) -> 0 | S10: =IF(D10="","",VLOOKUP(D10,'HK1'!D10:AF79,16,0)+VLOOKUP(D10,'HK2'!D10:AF79,16,0)) -> 0 | T10: =IF(D10="","",VLOOKUP(D10,'HK1'!D10:AF79,17,0)+VLOOKUP(D10,'HK2'!D10:AF79,17,0)) -> 0 | U10: =IF(D10="","",VLOOKUP(D10,'HK1'!D10:AF79,18,0)+VLOOKUP(D10,'HK2'!D10:AF79,18,0)) -> 0 | V10: =IF(D10="","",VLOOKUP(D10,'HK1'!D10:AF79,19,0)+VLOOKUP(D10,'HK2'!D10:AF79,19,0)) -> 0 | W10: =IF(D10="","",VLOOKUP(D10,'HK1'!D10:AF79,20,0)+VLOOKUP(D10,'HK2'!D10:AF79,20,0)) -> 0 | X10: =IF(D10="","",VLOOKUP(D10,'HK1'!D10:AF79,21,0)+VLOOKUP(D10,'HK2'!D10:AF79,21,0)) -> 18 | Y10: =IF(D10="","",VLOOKUP(D10,'HK1'!D10:AF79,22,0)+VLOOKUP(D10,'HK2'!D10:AF79,22,0)) -> 0 | Z10: =IF(D10="","",VLOOKUP(D10,'HK1'!D10:AF79,23,0)+VLOOKUP(D10,'HK2'!D10:AF79,23,0)) -> 1.8 | AA10: =IF(D10="","",VLOOKUP(D10,'HK1'!D10:AF79,24,0)+VLOOKUP(D10,'HK2'!D10:AF79,24,0)) -> 0 | AB10: =IF(D10="","",VLOOKUP(D10,'HK1'!D10:AF79,25,0)+VLOOKUP(D10,'HK2'!D10:AF79,25,0)) -> 0 | AC10: =IF(D10="","",VLOOKUP(D10,'HK1'!D10:AF79,26,0)+VLOOKUP(D10,'HK2'!D10:AF79,26,0)) -> 0 | AD10: =IF(D10="","",VLOOKUP(D10,'HK1'!D10:AF79,27,0)+VLOOKUP(D10,'HK2'!D10:AF79,27,0)) -> 1.2 | AE10: =IF(D10="","",VLOOKUP(D10,'HK1'!D10:AF79,28,0)+VLOOKUP(D10,'HK2'!D10:AF79,28,0)) -> 11.6 | AF10: =IF(D10="","",VLOOKUP(D10,'HK1'!D10:AF79,29,0)+VLOOKUP(D10,'HK2'!D10:AF79,29,0)) -> 53.9 | AG10: =IF(AF10="","",ROUND(AF10*10/3,1)) -> 179.7
A11: 8 | B11: 1012004 | C11: Khoa CN Cơ khí | D11: Phan Văn Thành | E11: =IF(D11="","",VLOOKUP(D11,'HK1'!D11:AF80,2,0)+VLOOKUP(D11,'HK2'!D11:AF80,2,0)) -> 0 | F11: =IF(D11="","",VLOOKUP(D11,'HK1'!D11:AF80,3,0)+VLOOKUP(D11,'HK2'!D11:AF80,3,0)) -> 0 | G11: =IF(D11="","",VLOOKUP(D11,'HK1'!D11:AF80,4,0)+VLOOKUP(D11,'HK2'!D11:AF80,4,0)) -> 0 | H11: =IF(D11="","",VLOOKUP(D11,'HK1'!D11:AF80,5,0)+VLOOKUP(D11,'HK2'!D11:AF80,5,0)) -> 0 | I11: =IF(D11="","",VLOOKUP(D11,'HK1'!D11:AF80,6,0)+VLOOKUP(D11,'HK2'!D11:AF80,6,0)) -> 0 | J11: =IF(D11="","",VLOOKUP(D11,'HK1'!D11:AF80,7,0)+VLOOKUP(D11,'HK2'!D11:AF80,7,0)) -> 21.6 | K11: =IF(D11="","",VLOOKUP(D11,'HK1'!D11:AF80,8,0)+VLOOKUP(D11,'HK2'!D11:AF80,8,0)) -> 1.2 | L11: =IF(D11="","",VLOOKUP(D11,'HK1'!D11:AF80,9,0)+VLOOKUP(D11,'HK2'!D11:AF80,9,0)) -> 0 | M11: =IF(D11="","",VLOOKUP(D11,'HK1'!D11:AF80,10,0)+VLOOKUP(D11,'HK2'!D11:AF80,10,0)) -> 0 | N11: =IF(D11="","",VLOOKUP(D11,'HK1'!D11:AF80,11,0)+VLOOKUP(D11,'HK2'!D11:AF80,11,0)) -> 22.8 | O11: =IF(D11="","",VLOOKUP(D11,'HK1'!D11:AF80,12,0)+VLOOKUP(D11,'HK2'!D11:AF80,12,0)) -> 0 | P11: =IF(D11="","",VLOOKUP(D11,'HK1'!D11:AF80,13,0)+VLOOKUP(D11,'HK2'!D11:AF80,13,0)) -> 0 | Q11: =IF(D11="","",VLOOKUP(D11,'HK1'!D11:AF80,14,0)+VLOOKUP(D11,'HK2'!D11:AF80,14,0)) -> 0 | R11: =IF(D11="","",VLOOKUP(D11,'HK1'!D11:AF80,15,0)+VLOOKUP(D11,'HK2'!D11:AF80,15,0)) -> 0 | S11: =IF(D11="","",VLOOKUP(D11,'HK1'!D11:AF80,16,0)+VLOOKUP(D11,'HK2'!D11:AF80,16,0)) -> 0 | T11: =IF(D11="","",VLOOKUP(D11,'HK1'!D11:AF80,17,0)+VLOOKUP(D11,'HK2'!D11:AF80,17,0)) -> 0 | U11: =IF(D11="","",VLOOKUP(D11,'HK1'!D11:AF80,18,0)+VLOOKUP(D11,'HK2'!D11:AF80,18,0)) -> 0 | V11: =IF(D11="","",VLOOKUP(D11,'HK1'!D11:AF80,19,0)+VLOOKUP(D11,'HK2'!D11:AF80,19,0)) -> 0 | W11: =IF(D11="","",VLOOKUP(D11,'HK1'!D11:AF80,20,0)+VLOOKUP(D11,'HK2'!D11:AF80,20,0)) -> 0 | X11: =IF(D11="","",VLOOKUP(D11,'HK1'!D11:AF80,21,0)+VLOOKUP(D11,'HK2'!D11:AF80,21,0)) -> 1 | Y11: =IF(D11="","",VLOOKUP(D11,'HK1'!D11:AF80,22,0)+VLOOKUP(D11,'HK2'!D11:AF80,22,0)) -> 0 | Z11: =IF(D11="","",VLOOKUP(D11,'HK1'!D11:AF80,23,0)+VLOOKUP(D11,'HK2'!D11:AF80,23,0)) -> 0.1 | AA11: =IF(D11="","",VLOOKUP(D11,'HK1'!D11:AF80,24,0)+VLOOKUP(D11,'HK2'!D11:AF80,24,0)) -> 0 | AB11: =IF(D11="","",VLOOKUP(D11,'HK1'!D11:AF80,25,0)+VLOOKUP(D11,'HK2'!D11:AF80,25,0)) -> 0 | AC11: =IF(D11="","",VLOOKUP(D11,'HK1'!D11:AF80,26,0)+VLOOKUP(D11,'HK2'!D11:AF80,26,0)) -> 0 | AD11: =IF(D11="","",VLOOKUP(D11,'HK1'!D11:AF80,27,0)+VLOOKUP(D11,'HK2'!D11:AF80,27,0)) -> 1.2 | AE11: =IF(D11="","",VLOOKUP(D11,'HK1'!D11:AF80,28,0)+VLOOKUP(D11,'HK2'!D11:AF80,28,0)) -> 0 | AF11: =IF(D11="","",VLOOKUP(D11,'HK1'!D11:AF80,29,0)+VLOOKUP(D11,'HK2'!D11:AF80,29,0)) -> 24.1 | AG11: =IF(AF11="","",ROUND(AF11*10/3,1)) -> 80.3
A12: 9 | B12: 1012020 | C12: Khoa CN Cơ khí | D12: Trần Minh Thông | E12: =IF(D12="","",VLOOKUP(D12,'HK1'!D12:AF81,2,0)+VLOOKUP(D12,'HK2'!D12:AF81,2,0)) -> 10 | F12: =IF(D12="","",VLOOKUP(D12,'HK1'!D12:AF81,3,0)+VLOOKUP(D12,'HK2'!D12:AF81,3,0)) -> 0 | G12: =IF(D12="","",VLOOKUP(D12,'HK1'!D12:AF81,4,0)+VLOOKUP(D12,'HK2'!D12:AF81,4,0)) -> 0 | H12: =IF(D12="","",VLOOKUP(D12,'HK1'!D12:AF81,5,0)+VLOOKUP(D12,'HK2'!D12:AF81,5,0)) -> 0 | I12: =IF(D12="","",VLOOKUP(D12,'HK1'!D12:AF81,6,0)+VLOOKUP(D12,'HK2'!D12:AF81,6,0)) -> 10 | J12: =IF(D12="","",VLOOKUP(D12,'HK1'!D12:AF81,7,0)+VLOOKUP(D12,'HK2'!D12:AF81,7,0)) -> 20.8 | K12: =IF(D12="","",VLOOKUP(D12,'HK1'!D12:AF81,8,0)+VLOOKUP(D12,'HK2'!D12:AF81,8,0)) -> 3.2 | L12: =IF(D12="","",VLOOKUP(D12,'HK1'!D12:AF81,9,0)+VLOOKUP(D12,'HK2'!D12:AF81,9,0)) -> 0 | M12: =IF(D12="","",VLOOKUP(D12,'HK1'!D12:AF81,10,0)+VLOOKUP(D12,'HK2'!D12:AF81,10,0)) -> 0 | N12: =IF(D12="","",VLOOKUP(D12,'HK1'!D12:AF81,11,0)+VLOOKUP(D12,'HK2'!D12:AF81,11,0)) -> 24 | O12: =IF(D12="","",VLOOKUP(D12,'HK1'!D12:AF81,12,0)+VLOOKUP(D12,'HK2'!D12:AF81,12,0)) -> 308 | P12: =IF(D12="","",VLOOKUP(D12,'HK1'!D12:AF81,13,0)+VLOOKUP(D12,'HK2'!D12:AF81,13,0)) -> 264 | Q12: =IF(D12="","",VLOOKUP(D12,'HK1'!D12:AF81,14,0)+VLOOKUP(D12,'HK2'!D12:AF81,14,0)) -> 28.6 | R12: =IF(D12="","",VLOOKUP(D12,'HK1'!D12:AF81,15,0)+VLOOKUP(D12,'HK2'!D12:AF81,15,0)) -> 106 | S12: =IF(D12="","",VLOOKUP(D12,'HK1'!D12:AF81,16,0)+VLOOKUP(D12,'HK2'!D12:AF81,16,0)) -> 201 | T12: =IF(D12="","",VLOOKUP(D12,'HK1'!D12:AF81,17,0)+VLOOKUP(D12,'HK2'!D12:AF81,17,0)) -> 15.35 | U12: =IF(D12="","",VLOOKUP(D12,'HK1'!D12:AF81,18,0)+VLOOKUP(D12,'HK2'!D12:AF81,18,0)) -> 0 | V12: =IF(D12="","",VLOOKUP(D12,'HK1'!D12:AF81,19,0)+VLOOKUP(D12,'HK2'!D12:AF81,19,0)) -> 0 | W12: =IF(D12="","",VLOOKUP(D12,'HK1'!D12:AF81,20,0)+VLOOKUP(D12,'HK2'!D12:AF81,20,0)) -> 0 | X12: =IF(D12="","",VLOOKUP(D12,'HK1'!D12:AF81,21,0)+VLOOKUP(D12,'HK2'!D12:AF81,21,0)) -> 0 | Y12: =IF(D12="","",VLOOKUP(D12,'HK1'!D12:AF81,22,0)+VLOOKUP(D12,'HK2'!D12:AF81,22,0)) -> 0 | Z12: =IF(D12="","",VLOOKUP(D12,'HK1'!D12:AF81,23,0)+VLOOKUP(D12,'HK2'!D12:AF81,23,0)) -> 0 | AA12: =IF(D12="","",VLOOKUP(D12,'HK1'!D12:AF81,24,0)+VLOOKUP(D12,'HK2'!D12:AF81,24,0)) -> 0 | AB12: =IF(D12="","",VLOOKUP(D12,'HK1'!D12:AF81,25,0)+VLOOKUP(D12,'HK2'!D12:AF81,25,0)) -> 0 | AC12: =IF(D12="","",VLOOKUP(D12,'HK1'!D12:AF81,26,0)+VLOOKUP(D12,'HK2'!D12:AF81,26,0)) -> 0 | AD12: =IF(D12="","",VLOOKUP(D12,'HK1'!D12:AF81,27,0)+VLOOKUP(D12,'HK2'!D12:AF81,27,0)) -> 1.2 | AE12: =IF(D12="","",VLOOKUP(D12,'HK1'!D12:AF81,28,0)+VLOOKUP(D12,'HK2'!D12:AF81,28,0)) -> 0 | AF12: =IF(D12="","",VLOOKUP(D12,'HK1'!D12:AF81,29,0)+VLOOKUP(D12,'HK2'!D12:AF81,29,0)) -> 79.2 | AG12: =IF(AF12="","",ROUND(AF12*10/3,1)) -> 264
A13: 10 | B13: 1012021 | C13: Khoa CN Cơ khí | D13: Trần Thị Hương | E13: =IF(D13="","",VLOOKUP(D13,'HK1'!D13:AF82,2,0)+VLOOKUP(D13,'HK2'!D13:AF82,2,0)) -> 1 | F13: =IF(D13="","",VLOOKUP(D13,'HK1'!D13:AF82,3,0)+VLOOKUP(D13,'HK2'!D13:AF82,3,0)) -> 16 | G13: =IF(D13="","",VLOOKUP(D13,'HK1'!D13:AF82,4,0)+VLOOKUP(D13,'HK2'!D13:AF82,4,0)) -> 0 | H13: =IF(D13="","",VLOOKUP(D13,'HK1'!D13:AF82,5,0)+VLOOKUP(D13,'HK2'!D13:AF82,5,0)) -> 0 | I13: =IF(D13="","",VLOOKUP(D13,'HK1'!D13:AF82,6,0)+VLOOKUP(D13,'HK2'!D13:AF82,6,0)) -> 33 | J13: =IF(D13="","",VLOOKUP(D13,'HK1'!D13:AF82,7,0)+VLOOKUP(D13,'HK2'!D13:AF82,7,0)) -> 2.4 | K13: =IF(D13="","",VLOOKUP(D13,'HK1'!D13:AF82,8,0)+VLOOKUP(D13,'HK2'!D13:AF82,8,0)) -> 22.8 | L13: =IF(D13="","",VLOOKUP(D13,'HK1'!D13:AF82,9,0)+VLOOKUP(D13,'HK2'!D13:AF82,9,0)) -> 0 | M13: =IF(D13="","",VLOOKUP(D13,'HK1'!D13:AF82,10,0)+VLOOKUP(D13,'HK2'!D13:AF82,10,0)) -> 0 | N13: =IF(D13="","",VLOOKUP(D13,'HK1'!D13:AF82,11,0)+VLOOKUP(D13,'HK2'!D13:AF82,11,0)) -> 25.2 | O13: =IF(D13="","",VLOOKUP(D13,'HK1'!D13:AF82,12,0)+VLOOKUP(D13,'HK2'!D13:AF82,12,0)) -> 98 | P13: =IF(D13="","",VLOOKUP(D13,'HK1'!D13:AF82,13,0)+VLOOKUP(D13,'HK2'!D13:AF82,13,0)) -> 107 | Q13: =IF(D13="","",VLOOKUP(D13,'HK1'!D13:AF82,14,0)+VLOOKUP(D13,'HK2'!D13:AF82,14,0)) -> 10.25 | R13: =IF(D13="","",VLOOKUP(D13,'HK1'!D13:AF82,15,0)+VLOOKUP(D13,'HK2'!D13:AF82,15,0)) -> 0 | S13: =IF(D13="","",VLOOKUP(D13,'HK1'!D13:AF82,16,0)+VLOOKUP(D13,'HK2'!D13:AF82,16,0)) -> 45 | T13: =IF(D13="","",VLOOKUP(D13,'HK1'!D13:AF82,17,0)+VLOOKUP(D13,'HK2'!D13:AF82,17,0)) -> 2.25 | U13: =IF(D13="","",VLOOKUP(D13,'HK1'!D13:AF82,18,0)+VLOOKUP(D13,'HK2'!D13:AF82,18,0)) -> 0 | V13: =IF(D13="","",VLOOKUP(D13,'HK1'!D13:AF82,19,0)+VLOOKUP(D13,'HK2'!D13:AF82,19,0)) -> 0 | W13: =IF(D13="","",VLOOKUP(D13,'HK1'!D13:AF82,20,0)+VLOOKUP(D13,'HK2'!D13:AF82,20,0)) -> 0 | X13: =IF(D13="","",VLOOKUP(D13,'HK1'!D13:AF82,21,0)+VLOOKUP(D13,'HK2'!D13:AF82,21,0)) -> 0 | Y13: =IF(D13="","",VLOOKUP(D13,'HK1'!D13:AF82,22,0)+VLOOKUP(D13,'HK2'!D13:AF82,22,0)) -> 0 | Z13: =IF(D13="","",VLOOKUP(D13,'HK1'!D13:AF82,23,0)+VLOOKUP(D13,'HK2'!D13:AF82,23,0)) -> 0 | AA13: =IF(D13="","",VLOOKUP(D13,'HK1'!D13:AF82,24,0)+VLOOKUP(D13,'HK2'!D13:AF82,24,0)) -> 0 | AB13: =IF(D13="","",VLOOKUP(D13,'HK1'!D13:AF82,25,0)+VLOOKUP(D13,'HK2'!D13:AF82,25,0)) -> 0 | AC13: =IF(D13="","",VLOOKUP(D13,'HK1'!D13:AF82,26,0)+VLOOKUP(D13,'HK2'!D13:AF82,26,0)) -> 0 | AD13: =IF(D13="","",VLOOKUP(D13,'HK1'!D13:AF82,27,0)+VLOOKUP(D13,'HK2'!D13:AF82,27,0)) -> 2.4 | AE13: =IF(D13="","",VLOOKUP(D13,'HK1'!D13:AF82,28,0)+VLOOKUP(D13,'HK2'!D13:AF82,28,0)) -> 0 | AF13: =IF(D13="","",VLOOKUP(D13,'HK1'!D13:AF82,29,0)+VLOOKUP(D13,'HK2'!D13:AF82,29,0)) -> 73.1 | AG13: =IF(AF13="","",ROUND(AF13*10/3,1)) -> 243.7
A14: 11 | B14: 1012022 | C14: Khoa CN Cơ khí | D14: Nguyễn Duy Hải | E14: =IF(D14="","",VLOOKUP(D14,'HK1'!D14:AF83,2,0)+VLOOKUP(D14,'HK2'!D14:AF83,2,0)) -> 2 | F14: =IF(D14="","",VLOOKUP(D14,'HK1'!D14:AF83,3,0)+VLOOKUP(D14,'HK2'!D14:AF83,3,0)) -> 0 | G14: =IF(D14="","",VLOOKUP(D14,'HK1'!D14:AF83,4,0)+VLOOKUP(D14,'HK2'!D14:AF83,4,0)) -> 0 | H14: =IF(D14="","",VLOOKUP(D14,'HK1'!D14:AF83,5,0)+VLOOKUP(D14,'HK2'!D14:AF83,5,0)) -> 0 | I14: =IF(D14="","",VLOOKUP(D14,'HK1'!D14:AF83,6,0)+VLOOKUP(D14,'HK2'!D14:AF83,6,0)) -> 2 | J14: =IF(D14="","",VLOOKUP(D14,'HK1'!D14:AF83,7,0)+VLOOKUP(D14,'HK2'!D14:AF83,7,0)) -> 12.8 | K14: =IF(D14="","",VLOOKUP(D14,'HK1'!D14:AF83,8,0)+VLOOKUP(D14,'HK2'!D14:AF83,8,0)) -> 2.4 | L14: =IF(D14="","",VLOOKUP(D14,'HK1'!D14:AF83,9,0)+VLOOKUP(D14,'HK2'!D14:AF83,9,0)) -> 0 | M14: =IF(D14="","",VLOOKUP(D14,'HK1'!D14:AF83,10,0)+VLOOKUP(D14,'HK2'!D14:AF83,10,0)) -> 0 | N14: =IF(D14="","",VLOOKUP(D14,'HK1'!D14:AF83,11,0)+VLOOKUP(D14,'HK2'!D14:AF83,11,0)) -> 15.2 | O14: =IF(D14="","",VLOOKUP(D14,'HK1'!D14:AF83,12,0)+VLOOKUP(D14,'HK2'!D14:AF83,12,0)) -> 132 | P14: =IF(D14="","",VLOOKUP(D14,'HK1'!D14:AF83,13,0)+VLOOKUP(D14,'HK2'!D14:AF83,13,0)) -> 103 | Q14: =IF(D14="","",VLOOKUP(D14,'HK1'!D14:AF83,14,0)+VLOOKUP(D14,'HK2'!D14:AF83,14,0)) -> 11.75 | R14: =IF(D14="","",VLOOKUP(D14,'HK1'!D14:AF83,15,0)+VLOOKUP(D14,'HK2'!D14:AF83,15,0)) -> 0 | S14: =IF(D14="","",VLOOKUP(D14,'HK1'!D14:AF83,16,0)+VLOOKUP(D14,'HK2'!D14:AF83,16,0)) -> 68 | T14: =IF(D14="","",VLOOKUP(D14,'HK1'!D14:AF83,17,0)+VLOOKUP(D14,'HK2'!D14:AF83,17,0)) -> 3.4 | U14: =IF(D14="","",VLOOKUP(D14,'HK1'!D14:AF83,18,0)+VLOOKUP(D14,'HK2'!D14:AF83,18,0)) -> 19 | V14: =IF(D14="","",VLOOKUP(D14,'HK1'!D14:AF83,19,0)+VLOOKUP(D14,'HK2'!D14:AF83,19,0)) -> 0 | W14: =IF(D14="","",VLOOKUP(D14,'HK1'!D14:AF83,20,0)+VLOOKUP(D14,'HK2'!D14:AF83,20,0)) -> 1.3571429 | X14: =IF(D14="","",VLOOKUP(D14,'HK1'!D14:AF83,21,0)+VLOOKUP(D14,'HK2'!D14:AF83,21,0)) -> 0 | Y14: =IF(D14="","",VLOOKUP(D14,'HK1'!D14:AF83,22,0)+VLOOKUP(D14,'HK2'!D14:AF83,22,0)) -> 1 | Z14: =IF(D14="","",VLOOKUP(D14,'HK1'!D14:AF83,23,0)+VLOOKUP(D14,'HK2'!D14:AF83,23,0)) -> 0.1 | AA14: =IF(D14="","",VLOOKUP(D14,'HK1'!D14:AF83,24,0)+VLOOKUP(D14,'HK2'!D14:AF83,24,0)) -> 0 | AB14: =IF(D14="","",VLOOKUP(D14,'HK1'!D14:AF83,25,0)+VLOOKUP(D14,'HK2'!D14:AF83,25,0)) -> 0 | AC14: =IF(D14="","",VLOOKUP(D14,'HK1'!D14:AF83,26,0)+VLOOKUP(D14,'HK2'!D14:AF83,26,0)) -> 0 | AD14: =IF(D14="","",VLOOKUP(D14,'HK1'!D14:AF83,27,0)+VLOOKUP(D14,'HK2'!D14:AF83,27,0)) -> 2.4 | AE14: =IF(D14="","",VLOOKUP(D14,'HK1'!D14:AF83,28,0)+VLOOKUP(D14,'HK2'!D14:AF83,28,0)) -> 7.6 | AF14: =IF(D14="","",VLOOKUP(D14,'HK1'!D14:AF83,29,0)+VLOOKUP(D14,'HK2'!D14:AF83,29,0)) -> 43.8 | AG14: =IF(AF14="","",ROUND(AF14*10/3,1)) -> 146
A15: 12 | B15: 1012013 | C15: Khoa CN Cơ khí | D15: Vũ Đức Pháp | E15: =IF(D15="","",VLOOKUP(D15,'HK1'!D15:AF84,2,0)+VLOOKUP(D15,'HK2'!D15:AF84,2,0)) -> 4 | F15: =IF(D15="","",VLOOKUP(D15,'HK1'!D15:AF84,3,0)+VLOOKUP(D15,'HK2'!D15:AF84,3,0)) -> 0 | G15: =IF(D15="","",VLOOKUP(D15,'HK1'!D15:AF84,4,0)+VLOOKUP(D15,'HK2'!D15:AF84,4,0)) -> 0 | H15: =IF(D15="","",VLOOKUP(D15,'HK1'!D15:AF84,5,0)+VLOOKUP(D15,'HK2'!D15:AF84,5,0)) -> 0 | I15: =IF(D15="","",VLOOKUP(D15,'HK1'!D15:AF84,6,0)+VLOOKUP(D15,'HK2'!D15:AF84,6,0)) -> 4 | J15: =IF(D15="","",VLOOKUP(D15,'HK1'!D15:AF84,7,0)+VLOOKUP(D15,'HK2'!D15:AF84,7,0)) -> 23.6 | K15: =IF(D15="","",VLOOKUP(D15,'HK1'!D15:AF84,8,0)+VLOOKUP(D15,'HK2'!D15:AF84,8,0)) -> 0 | L15: =IF(D15="","",VLOOKUP(D15,'HK1'!D15:AF84,9,0)+VLOOKUP(D15,'HK2'!D15:AF84,9,0)) -> 0 | M15: =IF(D15="","",VLOOKUP(D15,'HK1'!D15:AF84,10,0)+VLOOKUP(D15,'HK2'!D15:AF84,10,0)) -> 0 | N15: =IF(D15="","",VLOOKUP(D15,'HK1'!D15:AF84,11,0)+VLOOKUP(D15,'HK2'!D15:AF84,11,0)) -> 23.6 | O15: =IF(D15="","",VLOOKUP(D15,'HK1'!D15:AF84,12,0)+VLOOKUP(D15,'HK2'!D15:AF84,12,0)) -> 69 | P15: =IF(D15="","",VLOOKUP(D15,'HK1'!D15:AF84,13,0)+VLOOKUP(D15,'HK2'!D15:AF84,13,0)) -> 144 | Q15: =IF(D15="","",VLOOKUP(D15,'HK1'!D15:AF84,14,0)+VLOOKUP(D15,'HK2'!D15:AF84,14,0)) -> 10.65 | R15: =IF(D15="","",VLOOKUP(D15,'HK1'!D15:AF84,15,0)+VLOOKUP(D15,'HK2'!D15:AF84,15,0)) -> 0 | S15: =IF(D15="","",VLOOKUP(D15,'HK1'!D15:AF84,16,0)+VLOOKUP(D15,'HK2'!D15:AF84,16,0)) -> 0 | T15: =IF(D15="","",VLOOKUP(D15,'HK1'!D15:AF84,17,0)+VLOOKUP(D15,'HK2'!D15:AF84,17,0)) -> 0 | U15: =IF(D15="","",VLOOKUP(D15,'HK1'!D15:AF84,18,0)+VLOOKUP(D15,'HK2'!D15:AF84,18,0)) -> 0 | V15: =IF(D15="","",VLOOKUP(D15,'HK1'!D15:AF84,19,0)+VLOOKUP(D15,'HK2'!D15:AF84,19,0)) -> 19 | W15: =IF(D15="","",VLOOKUP(D15,'HK1'!D15:AF84,20,0)+VLOOKUP(D15,'HK2'!D15:AF84,20,0)) -> 1.3571429 | X15: =IF(D15="","",VLOOKUP(D15,'HK1'!D15:AF84,21,0)+VLOOKUP(D15,'HK2'!D15:AF84,21,0)) -> 0 | Y15: =IF(D15="","",VLOOKUP(D15,'HK1'!D15:AF84,22,0)+VLOOKUP(D15,'HK2'!D15:AF84,22,0)) -> 18 | Z15: =IF(D15="","",VLOOKUP(D15,'HK1'!D15:AF84,23,0)+VLOOKUP(D15,'HK2'!D15:AF84,23,0)) -> 1.8 | AA15: =IF(D15="","",VLOOKUP(D15,'HK1'!D15:AF84,24,0)+VLOOKUP(D15,'HK2'!D15:AF84,24,0)) -> 0 | AB15: =IF(D15="","",VLOOKUP(D15,'HK1'!D15:AF84,25,0)+VLOOKUP(D15,'HK2'!D15:AF84,25,0)) -> 0 | AC15: =IF(D15="","",VLOOKUP(D15,'HK1'!D15:AF84,26,0)+VLOOKUP(D15,'HK2'!D15:AF84,26,0)) -> 0 | AD15: =IF(D15="","",VLOOKUP(D15,'HK1'!D15:AF84,27,0)+VLOOKUP(D15,'HK2'!D15:AF84,27,0)) -> 1.2 | AE15: =IF(D15="","",VLOOKUP(D15,'HK1'!D15:AF84,28,0)+VLOOKUP(D15,'HK2'!D15:AF84,28,0)) -> 3.6 | AF15: =IF(D15="","",VLOOKUP(D15,'HK1'!D15:AF84,29,0)+VLOOKUP(D15,'HK2'!D15:AF84,29,0)) -> 46.3 | AG15: =IF(AF15="","",ROUND(AF15*10/3,1)) -> 154.3
... A429: 426 | B429: 1022025 | C429: Trường THPT LTT | D429: Võ Thị Thu Thuỷ | E429: =IF(D429="","",VLOOKUP(D429,'HK1'!D429:AF498,2,0)+VLOOKUP(D429,'HK2'!D429:AF498,2,0)) -> 0 | F429: =IF(D429="","",VLOOKUP(D429,'HK1'!D429:AF498,3,0)+VLOOKUP(D429,'HK2'!D429:AF498,3,0)) -> 0 | G429: =IF(D429="","",VLOOKUP(D429,'HK1'!D429:AF498,4,0)+VLOOKUP(D429,'HK2'!D429:AF498,4,0)) -> 0 | H429: =IF(D429="","",VLOOKUP(D429,'HK1'!D429:AF498,5,0)+VLOOKUP(D429,'HK2'!D429:AF498,5,0)) -> 0 | I429: =IF(D429="","",VLOOKUP(D429,'HK1'!D429:AF498,6,0)+VLOOKUP(D429,'HK2'!D429:AF498,6,0)) -> 0 | J429: =IF(D429="","",VLOOKUP(D429,'HK1'!D429:AF498,7,0)+VLOOKUP(D429,'HK2'!D429:AF498,7,0)) -> 0 | K429: =IF(D429="","",VLOOKUP(D429,'HK1'!D429:AF498,8,0)+VLOOKUP(D429,'HK2'!D429:AF498,8,0)) -> 0 | L429: =IF(D429="","",VLOOKUP(D429,'HK1'!D429:AF498,9,0)+VLOOKUP(D429,'HK2'!D429:AF498,9,0)) -> 0 | M429: =IF(D429="","",VLOOKUP(D429,'HK1'!D429:AF498,10,0)+VLOOKUP(D429,'HK2'!D429:AF498,10,0)) -> 0 | N429: =IF(D429="","",VLOOKUP(D429,'HK1'!D429:AF498,11,0)+VLOOKUP(D429,'HK2'!D429:AF498,11,0)) -> 0 | O429: =IF(D429="","",VLOOKUP(D429,'HK1'!D429:AF498,12,0)+VLOOKUP(D429,'HK2'!D429:AF498,12,0)) -> 0 | P429: =IF(D429="","",VLOOKUP(D429,'HK1'!D429:AF498,13,0)+VLOOKUP(D429,'HK2'!D429:AF498,13,0)) -> 0 | Q429: =IF(D429="","",VLOOKUP(D429,'HK1'!D429:AF498,14,0)+VLOOKUP(D429,'HK2'!D429:AF498,14,0)) -> 0 | R429: =IF(D429="","",VLOOKUP(D429,'HK1'!D429:AF498,15,0)+VLOOKUP(D429,'HK2'!D429:AF498,15,0)) -> 0 | S429: =IF(D429="","",VLOOKUP(D429,'HK1'!D429:AF498,16,0)+VLOOKUP(D429,'HK2'!D429:AF498,16,0)) -> 0 | T429: =IF(D429="","",VLOOKUP(D429,'HK1'!D429:AF498,17,0)+VLOOKUP(D429,'HK2'!D429:AF498,17,0)) -> 0 | U429: =IF(D429="","",VLOOKUP(D429,'HK1'!D429:AF498,18,0)+VLOOKUP(D429,'HK2'!D429:AF498,18,0)) -> 0 | V429: =IF(D429="","",VLOOKUP(D429,'HK1'!D429:AF498,19,0)+VLOOKUP(D429,'HK2'!D429:AF498,19,0)) -> 0 | W429: =IF(D429="","",VLOOKUP(D429,'HK1'!D429:AF498,20,0)+VLOOKUP(D429,'HK2'!D429:AF498,20,0)) -> 0 | X429: =IF(D429="","",VLOOKUP(D429,'HK1'!D429:AF498,21,0)+VLOOKUP(D429,'HK2'!D429:AF498,21,0)) -> 0 | Y429: =IF(D429="","",VLOOKUP(D429,'HK1'!D429:AF498,22,0)+VLOOKUP(D429,'HK2'!D429:AF498,22,0)) -> 0 | Z429: =IF(D429="","",VLOOKUP(D429,'HK1'!D429:AF498,23,0)+VLOOKUP(D429,'HK2'!D429:AF498,23,0)) -> 0 | AA429: =IF(D429="","",VLOOKUP(D429,'HK1'!D429:AF498,24,0)+VLOOKUP(D429,'HK2'!D429:AF498,24,0)) -> 0 | AB429: =IF(D429="","",VLOOKUP(D429,'HK1'!D429:AF498,25,0)+VLOOKUP(D429,'HK2'!D429:AF498,25,0)) -> 0 | AC429: =IF(D429="","",VLOOKUP(D429,'HK1'!D429:AF498,26,0)+VLOOKUP(D429,'HK2'!D429:AF498,26,0)) -> 0 | AD429: =IF(D429="","",VLOOKUP(D429,'HK1'!D429:AF498,27,0)+VLOOKUP(D429,'HK2'!D429:AF498,27,0)) -> 0 | AE429: =IF(D429="","",VLOOKUP(D429,'HK1'!D429:AF498,28,0)+VLOOKUP(D429,'HK2'!D429:AF498,28,0)) -> 0 | AF429: =IF(D429="","",VLOOKUP(D429,'HK1'!D429:AF498,29,0)+VLOOKUP(D429,'HK2'!D429:AF498,29,0)) -> 0 | AG429: =IF(AF429="","",ROUND(AF429*10/3,1)) -> 0
A430: =IF(D430="","",SUBTOTAL(3,$D$4:D430)) | E430: =IF(D430="","",VLOOKUP(D430,'HK1'!D430:AF499,2,0)+VLOOKUP(D430,'HK2'!D430:AF499,2,0)) | F430: =IF(D430="","",VLOOKUP(D430,'HK1'!D430:AF499,3,0)+VLOOKUP(D430,'HK2'!D430:AF499,3,0)) | G430: =IF(D430="","",VLOOKUP(D430,'HK1'!D430:AF499,4,0)+VLOOKUP(D430,'HK2'!D430:AF499,4,0)) | H430: =IF(D430="","",VLOOKUP(D430,'HK1'!D430:AF499,5,0)+VLOOKUP(D430,'HK2'!D430:AF499,5,0)) | I430: =IF(D430="","",VLOOKUP(D430,'HK1'!D430:AF499,6,0)+VLOOKUP(D430,'HK2'!D430:AF499,6,0)) | J430: =IF(D430="","",VLOOKUP(D430,'HK1'!D430:AF499,7,0)+VLOOKUP(D430,'HK2'!D430:AF499,7,0)) | K430: =IF(D430="","",VLOOKUP(D430,'HK1'!D430:AF499,8,0)+VLOOKUP(D430,'HK2'!D430:AF499,8,0)) | L430: =IF(D430="","",VLOOKUP(D430,'HK1'!D430:AF499,9,0)+VLOOKUP(D430,'HK2'!D430:AF499,9,0)) | M430: =IF(D430="","",VLOOKUP(D430,'HK1'!D430:AF499,10,0)+VLOOKUP(D430,'HK2'!D430:AF499,10,0)) | N430: =IF(D430="","",VLOOKUP(D430,'HK1'!D430:AF499,11,0)+VLOOKUP(D430,'HK2'!D430:AF499,11,0)) | O430: =IF(D430="","",VLOOKUP(D430,'HK1'!D430:AF499,12,0)+VLOOKUP(D430,'HK2'!D430:AF499,12,0)) | P430: =IF(D430="","",VLOOKUP(D430,'HK1'!D430:AF499,13,0)+VLOOKUP(D430,'HK2'!D430:AF499,13,0)) | Q430: =IF(D430="","",VLOOKUP(D430,'HK1'!D430:AF499,14,0)+VLOOKUP(D430,'HK2'!D430:AF499,14,0)) | R430: =IF(D430="","",VLOOKUP(D430,'HK1'!D430:AF499,15,0)+VLOOKUP(D430,'HK2'!D430:AF499,15,0)) | S430: =IF(D430="","",VLOOKUP(D430,'HK1'!D430:AF499,16,0)+VLOOKUP(D430,'HK2'!D430:AF499,16,0)) | T430: =IF(D430="","",VLOOKUP(D430,'HK1'!D430:AF499,17,0)+VLOOKUP(D430,'HK2'!D430:AF499,17,0)) | U430: =IF(D430="","",VLOOKUP(D430,'HK1'!D430:AF499,18,0)+VLOOKUP(D430,'HK2'!D430:AF499,18,0)) | V430: =IF(D430="","",VLOOKUP(D430,'HK1'!D430:AF499,19,0)+VLOOKUP(D430,'HK2'!D430:AF499,19,0)) | W430: =IF(D430="","",VLOOKUP(D430,'HK1'!D430:AF499,20,0)+VLOOKUP(D430,'HK2'!D430:AF499,20,0)) | X430: =IF(D430="","",VLOOKUP(D430,'HK1'!D430:AF499,21,0)+VLOOKUP(D430,'HK2'!D430:AF499,21,0)) | Y430: =IF(D430="","",VLOOKUP(D430,'HK1'!D430:AF499,22,0)+VLOOKUP(D430,'HK2'!D430:AF499,22,0)) | Z430: =IF(D430="","",VLOOKUP(D430,'HK1'!D430:AF499,23,0)+VLOOKUP(D430,'HK2'!D430:AF499,23,0)) | AA430: =IF(D430="","",VLOOKUP(D430,'HK1'!D430:AF499,24,0)+VLOOKUP(D430,'HK2'!D430:AF499,24,0)) | AB430: =IF(D430="","",VLOOKUP(D430,'HK1'!D430:AF499,25,0)+VLOOKUP(D430,'HK2'!D430:AF499,25,0)) | AC430: =IF(D430="","",VLOOKUP(D430,'HK1'!D430:AF499,26,0)+VLOOKUP(D430,'HK2'!D430:AF499,26,0)) | AD430: =IF(D430="","",VLOOKUP(D430,'HK1'!D430:AF499,27,0)+VLOOKUP(D430,'HK2'!D430:AF499,27,0)) | AE430: =IF(D430="","",VLOOKUP(D430,'HK1'!D430:AF499,28,0)+VLOOKUP(D430,'HK2'!D430:AF499,28,0)) | AF430: =IF(D430="","",VLOOKUP(D430,'HK1'!D430:AF499,29,0)+VLOOKUP(D430,'HK2'!D430:AF499,29,0)) | AG430: =IF(AF430="","",ROUND(AF430*10/3,1))
A431: =IF(D431="","",SUBTOTAL(3,$D$4:D431)) | E431: =IF(D431="","",VLOOKUP(D431,'HK1'!D431:AF500,2,0)+VLOOKUP(D431,'HK2'!D431:AF500,2,0)) | F431: =IF(D431="","",VLOOKUP(D431,'HK1'!D431:AF500,3,0)+VLOOKUP(D431,'HK2'!D431:AF500,3,0)) | G431: =IF(D431="","",VLOOKUP(D431,'HK1'!D431:AF500,4,0)+VLOOKUP(D431,'HK2'!D431:AF500,4,0)) | H431: =IF(D431="","",VLOOKUP(D431,'HK1'!D431:AF500,5,0)+VLOOKUP(D431,'HK2'!D431:AF500,5,0)) | I431: =IF(D431="","",VLOOKUP(D431,'HK1'!D431:AF500,6,0)+VLOOKUP(D431,'HK2'!D431:AF500,6,0)) | J431: =IF(D431="","",VLOOKUP(D431,'HK1'!D431:AF500,7,0)+VLOOKUP(D431,'HK2'!D431:AF500,7,0)) | K431: =IF(D431="","",VLOOKUP(D431,'HK1'!D431:AF500,8,0)+VLOOKUP(D431,'HK2'!D431:AF500,8,0)) | L431: =IF(D431="","",VLOOKUP(D431,'HK1'!D431:AF500,9,0)+VLOOKUP(D431,'HK2'!D431:AF500,9,0)) | M431: =IF(D431="","",VLOOKUP(D431,'HK1'!D431:AF500,10,0)+VLOOKUP(D431,'HK2'!D431:AF500,10,0)) | N431: =IF(D431="","",VLOOKUP(D431,'HK1'!D431:AF500,11,0)+VLOOKUP(D431,'HK2'!D431:AF500,11,0)) | O431: =IF(D431="","",VLOOKUP(D431,'HK1'!D431:AF500,12,0)+VLOOKUP(D431,'HK2'!D431:AF500,12,0)) | P431: =IF(D431="","",VLOOKUP(D431,'HK1'!D431:AF500,13,0)+VLOOKUP(D431,'HK2'!D431:AF500,13,0)) | Q431: =IF(D431="","",VLOOKUP(D431,'HK1'!D431:AF500,14,0)+VLOOKUP(D431,'HK2'!D431:AF500,14,0)) | R431: =IF(D431="","",VLOOKUP(D431,'HK1'!D431:AF500,15,0)+VLOOKUP(D431,'HK2'!D431:AF500,15,0)) | S431: =IF(D431="","",VLOOKUP(D431,'HK1'!D431:AF500,16,0)+VLOOKUP(D431,'HK2'!D431:AF500,16,0)) | T431: =IF(D431="","",VLOOKUP(D431,'HK1'!D431:AF500,17,0)+VLOOKUP(D431,'HK2'!D431:AF500,17,0)) | U431: =IF(D431="","",VLOOKUP(D431,'HK1'!D431:AF500,18,0)+VLOOKUP(D431,'HK2'!D431:AF500,18,0)) | V431: =IF(D431="","",VLOOKUP(D431,'HK1'!D431:AF500,19,0)+VLOOKUP(D431,'HK2'!D431:AF500,19,0)) | W431: =IF(D431="","",VLOOKUP(D431,'HK1'!D431:AF500,20,0)+VLOOKUP(D431,'HK2'!D431:AF500,20,0)) | X431: =IF(D431="","",VLOOKUP(D431,'HK1'!D431:AF500,21,0)+VLOOKUP(D431,'HK2'!D431:AF500,21,0)) | Y431: =IF(D431="","",VLOOKUP(D431,'HK1'!D431:AF500,22,0)+VLOOKUP(D431,'HK2'!D431:AF500,22,0)) | Z431: =IF(D431="","",VLOOKUP(D431,'HK1'!D431:AF500,23,0)+VLOOKUP(D431,'HK2'!D431:AF500,23,0)) | AA431: =IF(D431="","",VLOOKUP(D431,'HK1'!D431:AF500,24,0)+VLOOKUP(D431,'HK2'!D431:AF500,24,0)) | AB431: =IF(D431="","",VLOOKUP(D431,'HK1'!D431:AF500,25,0)+VLOOKUP(D431,'HK2'!D431:AF500,25,0)) | AC431: =IF(D431="","",VLOOKUP(D431,'HK1'!D431:AF500,26,0)+VLOOKUP(D431,'HK2'!D431:AF500,26,0)) | AD431: =IF(D431="","",VLOOKUP(D431,'HK1'!D431:AF500,27,0)+VLOOKUP(D431,'HK2'!D431:AF500,27,0)) | AE431: =IF(D431="","",VLOOKUP(D431,'HK1'!D431:AF500,28,0)+VLOOKUP(D431,'HK2'!D431:AF500,28,0)) | AF431: =IF(D431="","",VLOOKUP(D431,'HK1'!D431:AF500,29,0)+VLOOKUP(D431,'HK2'!D431:AF500,29,0)) | AG431: =IF(AF431="","",ROUND(AF431*10/3,1))
A432: =IF(D432="","",SUBTOTAL(3,$D$4:D432)) | E432: =IF(D432="","",VLOOKUP(D432,'HK1'!D432:AF501,2,0)+VLOOKUP(D432,'HK2'!D432:AF501,2,0)) | F432: =IF(D432="","",VLOOKUP(D432,'HK1'!D432:AF501,3,0)+VLOOKUP(D432,'HK2'!D432:AF501,3,0)) | G432: =IF(D432="","",VLOOKUP(D432,'HK1'!D432:AF501,4,0)+VLOOKUP(D432,'HK2'!D432:AF501,4,0)) | H432: =IF(D432="","",VLOOKUP(D432,'HK1'!D432:AF501,5,0)+VLOOKUP(D432,'HK2'!D432:AF501,5,0)) | I432: =IF(D432="","",VLOOKUP(D432,'HK1'!D432:AF501,6,0)+VLOOKUP(D432,'HK2'!D432:AF501,6,0)) | J432: =IF(D432="","",VLOOKUP(D432,'HK1'!D432:AF501,7,0)+VLOOKUP(D432,'HK2'!D432:AF501,7,0)) | K432: =IF(D432="","",VLOOKUP(D432,'HK1'!D432:AF501,8,0)+VLOOKUP(D432,'HK2'!D432:AF501,8,0)) | L432: =IF(D432="","",VLOOKUP(D432,'HK1'!D432:AF501,9,0)+VLOOKUP(D432,'HK2'!D432:AF501,9,0)) | M432: =IF(D432="","",VLOOKUP(D432,'HK1'!D432:AF501,10,0)+VLOOKUP(D432,'HK2'!D432:AF501,10,0)) | N432: =IF(D432="","",VLOOKUP(D432,'HK1'!D432:AF501,11,0)+VLOOKUP(D432,'HK2'!D432:AF501,11,0)) | O432: =IF(D432="","",VLOOKUP(D432,'HK1'!D432:AF501,12,0)+VLOOKUP(D432,'HK2'!D432:AF501,12,0)) | P432: =IF(D432="","",VLOOKUP(D432,'HK1'!D432:AF501,13,0)+VLOOKUP(D432,'HK2'!D432:AF501,13,0)) | Q432: =IF(D432="","",VLOOKUP(D432,'HK1'!D432:AF501,14,0)+VLOOKUP(D432,'HK2'!D432:AF501,14,0)) | R432: =IF(D432="","",VLOOKUP(D432,'HK1'!D432:AF501,15,0)+VLOOKUP(D432,'HK2'!D432:AF501,15,0)) | S432: =IF(D432="","",VLOOKUP(D432,'HK1'!D432:AF501,16,0)+VLOOKUP(D432,'HK2'!D432:AF501,16,0)) | T432: =IF(D432="","",VLOOKUP(D432,'HK1'!D432:AF501,17,0)+VLOOKUP(D432,'HK2'!D432:AF501,17,0)) | U432: =IF(D432="","",VLOOKUP(D432,'HK1'!D432:AF501,18,0)+VLOOKUP(D432,'HK2'!D432:AF501,18,0)) | V432: =IF(D432="","",VLOOKUP(D432,'HK1'!D432:AF501,19,0)+VLOOKUP(D432,'HK2'!D432:AF501,19,0)) | W432: =IF(D432="","",VLOOKUP(D432,'HK1'!D432:AF501,20,0)+VLOOKUP(D432,'HK2'!D432:AF501,20,0)) | X432: =IF(D432="","",VLOOKUP(D432,'HK1'!D432:AF501,21,0)+VLOOKUP(D432,'HK2'!D432:AF501,21,0)) | Y432: =IF(D432="","",VLOOKUP(D432,'HK1'!D432:AF501,22,0)+VLOOKUP(D432,'HK2'!D432:AF501,22,0)) | Z432: =IF(D432="","",VLOOKUP(D432,'HK1'!D432:AF501,23,0)+VLOOKUP(D432,'HK2'!D432:AF501,23,0)) | AA432: =IF(D432="","",VLOOKUP(D432,'HK1'!D432:AF501,24,0)+VLOOKUP(D432,'HK2'!D432:AF501,24,0)) | AB432: =IF(D432="","",VLOOKUP(D432,'HK1'!D432:AF501,25,0)+VLOOKUP(D432,'HK2'!D432:AF501,25,0)) | AC432: =IF(D432="","",VLOOKUP(D432,'HK1'!D432:AF501,26,0)+VLOOKUP(D432,'HK2'!D432:AF501,26,0)) | AD432: =IF(D432="","",VLOOKUP(D432,'HK1'!D432:AF501,27,0)+VLOOKUP(D432,'HK2'!D432:AF501,27,0)) | AE432: =IF(D432="","",VLOOKUP(D432,'HK1'!D432:AF501,28,0)+VLOOKUP(D432,'HK2'!D432:AF501,28,0)) | AF432: =IF(D432="","",VLOOKUP(D432,'HK1'!D432:AF501,29,0)+VLOOKUP(D432,'HK2'!D432:AF501,29,0)) | AG432: =IF(AF432="","",ROUND(AF432*10/3,1))
A433: =IF(D433="","",SUBTOTAL(3,$D$4:D433)) | E433: =IF(D433="","",VLOOKUP(D433,'HK1'!D433:AF502,2,0)+VLOOKUP(D433,'HK2'!D433:AF502,2,0)) | F433: =IF(D433="","",VLOOKUP(D433,'HK1'!D433:AF502,3,0)+VLOOKUP(D433,'HK2'!D433:AF502,3,0)) | G433: =IF(D433="","",VLOOKUP(D433,'HK1'!D433:AF502,4,0)+VLOOKUP(D433,'HK2'!D433:AF502,4,0)) | H433: =IF(D433="","",VLOOKUP(D433,'HK1'!D433:AF502,5,0)+VLOOKUP(D433,'HK2'!D433:AF502,5,0)) | I433: =IF(D433="","",VLOOKUP(D433,'HK1'!D433:AF502,6,0)+VLOOKUP(D433,'HK2'!D433:AF502,6,0)) | J433: =IF(D433="","",VLOOKUP(D433,'HK1'!D433:AF502,7,0)+VLOOKUP(D433,'HK2'!D433:AF502,7,0)) | K433: =IF(D433="","",VLOOKUP(D433,'HK1'!D433:AF502,8,0)+VLOOKUP(D433,'HK2'!D433:AF502,8,0)) | L433: =IF(D433="","",VLOOKUP(D433,'HK1'!D433:AF502,9,0)+VLOOKUP(D433,'HK2'!D433:AF502,9,0)) | M433: =IF(D433="","",VLOOKUP(D433,'HK1'!D433:AF502,10,0)+VLOOKUP(D433,'HK2'!D433:AF502,10,0)) | N433: =IF(D433="","",VLOOKUP(D433,'HK1'!D433:AF502,11,0)+VLOOKUP(D433,'HK2'!D433:AF502,11,0)) | O433: =IF(D433="","",VLOOKUP(D433,'HK1'!D433:AF502,12,0)+VLOOKUP(D433,'HK2'!D433:AF502,12,0)) | P433: =IF(D433="","",VLOOKUP(D433,'HK1'!D433:AF502,13,0)+VLOOKUP(D433,'HK2'!D433:AF502,13,0)) | Q433: =IF(D433="","",VLOOKUP(D433,'HK1'!D433:AF502,14,0)+VLOOKUP(D433,'HK2'!D433:AF502,14,0)) | R433: =IF(D433="","",VLOOKUP(D433,'HK1'!D433:AF502,15,0)+VLOOKUP(D433,'HK2'!D433:AF502,15,0)) | S433: =IF(D433="","",VLOOKUP(D433,'HK1'!D433:AF502,16,0)+VLOOKUP(D433,'HK2'!D433:AF502,16,0)) | T433: =IF(D433="","",VLOOKUP(D433,'HK1'!D433:AF502,17,0)+VLOOKUP(D433,'HK2'!D433:AF502,17,0)) | U433: =IF(D433="","",VLOOKUP(D433,'HK1'!D433:AF502,18,0)+VLOOKUP(D433,'HK2'!D433:AF502,18,0)) | V433: =IF(D433="","",VLOOKUP(D433,'HK1'!D433:AF502,19,0)+VLOOKUP(D433,'HK2'!D433:AF502,19,0)) | W433: =IF(D433="","",VLOOKUP(D433,'HK1'!D433:AF502,20,0)+VLOOKUP(D433,'HK2'!D433:AF502,20,0)) | X433: =IF(D433="","",VLOOKUP(D433,'HK1'!D433:AF502,21,0)+VLOOKUP(D433,'HK2'!D433:AF502,21,0)) | Y433: =IF(D433="","",VLOOKUP(D433,'HK1'!D433:AF502,22,0)+VLOOKUP(D433,'HK2'!D433:AF502,22,0)) | Z433: =IF(D433="","",VLOOKUP(D433,'HK1'!D433:AF502,23,0)+VLOOKUP(D433,'HK2'!D433:AF502,23,0)) | AA433: =IF(D433="","",VLOOKUP(D433,'HK1'!D433:AF502,24,0)+VLOOKUP(D433,'HK2'!D433:AF502,24,0)) | AB433: =IF(D433="","",VLOOKUP(D433,'HK1'!D433:AF502,25,0)+VLOOKUP(D433,'HK2'!D433:AF502,25,0)) | AC433: =IF(D433="","",VLOOKUP(D433,'HK1'!D433:AF502,26,0)+VLOOKUP(D433,'HK2'!D433:AF502,26,0)) | AD433: =IF(D433="","",VLOOKUP(D433,'HK1'!D433:AF502,27,0)+VLOOKUP(D433,'HK2'!D433:AF502,27,0)) | AE433: =IF(D433="","",VLOOKUP(D433,'HK1'!D433:AF502,28,0)+VLOOKUP(D433,'HK2'!D433:AF502,28,0)) | AF433: =IF(D433="","",VLOOKUP(D433,'HK1'!D433:AF502,29,0)+VLOOKUP(D433,'HK2'!D433:AF502,29,0)) | AG433: =IF(AF433="","",ROUND(AF433*10/3,1))
A434: =IF(D434="","",SUBTOTAL(3,$D$4:D434)) | E434: =IF(D434="","",VLOOKUP(D434,'HK1'!D434:AF503,2,0)+VLOOKUP(D434,'HK2'!D434:AF503,2,0)) | F434: =IF(D434="","",VLOOKUP(D434,'HK1'!D434:AF503,3,0)+VLOOKUP(D434,'HK2'!D434:AF503,3,0)) | G434: =IF(D434="","",VLOOKUP(D434,'HK1'!D434:AF503,4,0)+VLOOKUP(D434,'HK2'!D434:AF503,4,0)) | H434: =IF(D434="","",VLOOKUP(D434,'HK1'!D434:AF503,5,0)+VLOOKUP(D434,'HK2'!D434:AF503,5,0)) | I434: =IF(D434="","",VLOOKUP(D434,'HK1'!D434:AF503,6,0)+VLOOKUP(D434,'HK2'!D434:AF503,6,0)) | J434: =IF(D434="","",VLOOKUP(D434,'HK1'!D434:AF503,7,0)+VLOOKUP(D434,'HK2'!D434:AF503,7,0)) | K434: =IF(D434="","",VLOOKUP(D434,'HK1'!D434:AF503,8,0)+VLOOKUP(D434,'HK2'!D434:AF503,8,0)) | L434: =IF(D434="","",VLOOKUP(D434,'HK1'!D434:AF503,9,0)+VLOOKUP(D434,'HK2'!D434:AF503,9,0)) | M434: =IF(D434="","",VLOOKUP(D434,'HK1'!D434:AF503,10,0)+VLOOKUP(D434,'HK2'!D434:AF503,10,0)) | N434: =IF(D434="","",VLOOKUP(D434,'HK1'!D434:AF503,11,0)+VLOOKUP(D434,'HK2'!D434:AF503,11,0)) | O434: =IF(D434="","",VLOOKUP(D434,'HK1'!D434:AF503,12,0)+VLOOKUP(D434,'HK2'!D434:AF503,12,0)) | P434: =IF(D434="","",VLOOKUP(D434,'HK1'!D434:AF503,13,0)+VLOOKUP(D434,'HK2'!D434:AF503,13,0)) | Q434: =IF(D434="","",VLOOKUP(D434,'HK1'!D434:AF503,14,0)+VLOOKUP(D434,'HK2'!D434:AF503,14,0)) | R434: =IF(D434="","",VLOOKUP(D434,'HK1'!D434:AF503,15,0)+VLOOKUP(D434,'HK2'!D434:AF503,15,0)) | S434: =IF(D434="","",VLOOKUP(D434,'HK1'!D434:AF503,16,0)+VLOOKUP(D434,'HK2'!D434:AF503,16,0)) | T434: =IF(D434="","",VLOOKUP(D434,'HK1'!D434:AF503,17,0)+VLOOKUP(D434,'HK2'!D434:AF503,17,0)) | U434: =IF(D434="","",VLOOKUP(D434,'HK1'!D434:AF503,18,0)+VLOOKUP(D434,'HK2'!D434:AF503,18,0)) | V434: =IF(D434="","",VLOOKUP(D434,'HK1'!D434:AF503,19,0)+VLOOKUP(D434,'HK2'!D434:AF503,19,0)) | W434: =IF(D434="","",VLOOKUP(D434,'HK1'!D434:AF503,20,0)+VLOOKUP(D434,'HK2'!D434:AF503,20,0)) | X434: =IF(D434="","",VLOOKUP(D434,'HK1'!D434:AF503,21,0)+VLOOKUP(D434,'HK2'!D434:AF503,21,0)) | Y434: =IF(D434="","",VLOOKUP(D434,'HK1'!D434:AF503,22,0)+VLOOKUP(D434,'HK2'!D434:AF503,22,0)) | Z434: =IF(D434="","",VLOOKUP(D434,'HK1'!D434:AF503,23,0)+VLOOKUP(D434,'HK2'!D434:AF503,23,0)) | AA434: =IF(D434="","",VLOOKUP(D434,'HK1'!D434:AF503,24,0)+VLOOKUP(D434,'HK2'!D434:AF503,24,0)) | AB434: =IF(D434="","",VLOOKUP(D434,'HK1'!D434:AF503,25,0)+VLOOKUP(D434,'HK2'!D434:AF503,25,0)) | AC434: =IF(D434="","",VLOOKUP(D434,'HK1'!D434:AF503,26,0)+VLOOKUP(D434,'HK2'!D434:AF503,26,0)) | AD434: =IF(D434="","",VLOOKUP(D434,'HK1'!D434:AF503,27,0)+VLOOKUP(D434,'HK2'!D434:AF503,27,0)) | AE434: =IF(D434="","",VLOOKUP(D434,'HK1'!D434:AF503,28,0)+VLOOKUP(D434,'HK2'!D434:AF503,28,0)) | AF434: =IF(D434="","",VLOOKUP(D434,'HK1'!D434:AF503,29,0)+VLOOKUP(D434,'HK2'!D434:AF503,29,0)) | AG434: =IF(AF434="","",ROUND(AF434*10/3,1))
A435: =IF(D435="","",SUBTOTAL(3,$D$4:D435)) | E435: =IF(D435="","",VLOOKUP(D435,'HK1'!D435:AF504,2,0)+VLOOKUP(D435,'HK2'!D435:AF504,2,0)) | F435: =IF(D435="","",VLOOKUP(D435,'HK1'!D435:AF504,3,0)+VLOOKUP(D435,'HK2'!D435:AF504,3,0)) | G435: =IF(D435="","",VLOOKUP(D435,'HK1'!D435:AF504,4,0)+VLOOKUP(D435,'HK2'!D435:AF504,4,0)) | H435: =IF(D435="","",VLOOKUP(D435,'HK1'!D435:AF504,5,0)+VLOOKUP(D435,'HK2'!D435:AF504,5,0)) | I435: =IF(D435="","",VLOOKUP(D435,'HK1'!D435:AF504,6,0)+VLOOKUP(D435,'HK2'!D435:AF504,6,0)) | J435: =IF(D435="","",VLOOKUP(D435,'HK1'!D435:AF504,7,0)+VLOOKUP(D435,'HK2'!D435:AF504,7,0)) | K435: =IF(D435="","",VLOOKUP(D435,'HK1'!D435:AF504,8,0)+VLOOKUP(D435,'HK2'!D435:AF504,8,0)) | L435: =IF(D435="","",VLOOKUP(D435,'HK1'!D435:AF504,9,0)+VLOOKUP(D435,'HK2'!D435:AF504,9,0)) | M435: =IF(D435="","",VLOOKUP(D435,'HK1'!D435:AF504,10,0)+VLOOKUP(D435,'HK2'!D435:AF504,10,0)) | N435: =IF(D435="","",VLOOKUP(D435,'HK1'!D435:AF504,11,0)+VLOOKUP(D435,'HK2'!D435:AF504,11,0)) | O435: =IF(D435="","",VLOOKUP(D435,'HK1'!D435:AF504,12,0)+VLOOKUP(D435,'HK2'!D435:AF504,12,0)) | P435: =IF(D435="","",VLOOKUP(D435,'HK1'!D435:AF504,13,0)+VLOOKUP(D435,'HK2'!D435:AF504,13,0)) | Q435: =IF(D435="","",VLOOKUP(D435,'HK1'!D435:AF504,14,0)+VLOOKUP(D435,'HK2'!D435:AF504,14,0)) | R435: =IF(D435="","",VLOOKUP(D435,'HK1'!D435:AF504,15,0)+VLOOKUP(D435,'HK2'!D435:AF504,15,0)) | S435: =IF(D435="","",VLOOKUP(D435,'HK1'!D435:AF504,16,0)+VLOOKUP(D435,'HK2'!D435:AF504,16,0)) | T435: =IF(D435="","",VLOOKUP(D435,'HK1'!D435:AF504,17,0)+VLOOKUP(D435,'HK2'!D435:AF504,17,0)) | U435: =IF(D435="","",VLOOKUP(D435,'HK1'!D435:AF504,18,0)+VLOOKUP(D435,'HK2'!D435:AF504,18,0)) | V435: =IF(D435="","",VLOOKUP(D435,'HK1'!D435:AF504,19,0)+VLOOKUP(D435,'HK2'!D435:AF504,19,0)) | W435: =IF(D435="","",VLOOKUP(D435,'HK1'!D435:AF504,20,0)+VLOOKUP(D435,'HK2'!D435:AF504,20,0)) | X435: =IF(D435="","",VLOOKUP(D435,'HK1'!D435:AF504,21,0)+VLOOKUP(D435,'HK2'!D435:AF504,21,0)) | Y435: =IF(D435="","",VLOOKUP(D435,'HK1'!D435:AF504,22,0)+VLOOKUP(D435,'HK2'!D435:AF504,22,0)) | Z435: =IF(D435="","",VLOOKUP(D435,'HK1'!D435:AF504,23,0)+VLOOKUP(D435,'HK2'!D435:AF504,23,0)) | AA435: =IF(D435="","",VLOOKUP(D435,'HK1'!D435:AF504,24,0)+VLOOKUP(D435,'HK2'!D435:AF504,24,0)) | AB435: =IF(D435="","",VLOOKUP(D435,'HK1'!D435:AF504,25,0)+VLOOKUP(D435,'HK2'!D435:AF504,25,0)) | AC435: =IF(D435="","",VLOOKUP(D435,'HK1'!D435:AF504,26,0)+VLOOKUP(D435,'HK2'!D435:AF504,26,0)) | AD435: =IF(D435="","",VLOOKUP(D435,'HK1'!D435:AF504,27,0)+VLOOKUP(D435,'HK2'!D435:AF504,27,0)) | AE435: =IF(D435="","",VLOOKUP(D435,'HK1'!D435:AF504,28,0)+VLOOKUP(D435,'HK2'!D435:AF504,28,0)) | AF435: =IF(D435="","",VLOOKUP(D435,'HK1'!D435:AF504,29,0)+VLOOKUP(D435,'HK2'!D435:AF504,29,0)) | AG435: =IF(AF435="","",ROUND(AF435*10/3,1))
A436: =IF(D436="","",SUBTOTAL(3,$D$4:D436)) | E436: =IF(D436="","",VLOOKUP(D436,'HK1'!D436:AF505,2,0)+VLOOKUP(D436,'HK2'!D436:AF505,2,0)) | F436: =IF(D436="","",VLOOKUP(D436,'HK1'!D436:AF505,3,0)+VLOOKUP(D436,'HK2'!D436:AF505,3,0)) | G436: =IF(D436="","",VLOOKUP(D436,'HK1'!D436:AF505,4,0)+VLOOKUP(D436,'HK2'!D436:AF505,4,0)) | H436: =IF(D436="","",VLOOKUP(D436,'HK1'!D436:AF505,5,0)+VLOOKUP(D436,'HK2'!D436:AF505,5,0)) | I436: =IF(D436="","",VLOOKUP(D436,'HK1'!D436:AF505,6,0)+VLOOKUP(D436,'HK2'!D436:AF505,6,0)) | J436: =IF(D436="","",VLOOKUP(D436,'HK1'!D436:AF505,7,0)+VLOOKUP(D436,'HK2'!D436:AF505,7,0)) | K436: =IF(D436="","",VLOOKUP(D436,'HK1'!D436:AF505,8,0)+VLOOKUP(D436,'HK2'!D436:AF505,8,0)) | L436: =IF(D436="","",VLOOKUP(D436,'HK1'!D436:AF505,9,0)+VLOOKUP(D436,'HK2'!D436:AF505,9,0)) | M436: =IF(D436="","",VLOOKUP(D436,'HK1'!D436:AF505,10,0)+VLOOKUP(D436,'HK2'!D436:AF505,10,0)) | N436: =IF(D436="","",VLOOKUP(D436,'HK1'!D436:AF505,11,0)+VLOOKUP(D436,'HK2'!D436:AF505,11,0)) | O436: =IF(D436="","",VLOOKUP(D436,'HK1'!D436:AF505,12,0)+VLOOKUP(D436,'HK2'!D436:AF505,12,0)) | P436: =IF(D436="","",VLOOKUP(D436,'HK1'!D436:AF505,13,0)+VLOOKUP(D436,'HK2'!D436:AF505,13,0)) | Q436: =IF(D436="","",VLOOKUP(D436,'HK1'!D436:AF505,14,0)+VLOOKUP(D436,'HK2'!D436:AF505,14,0)) | R436: =IF(D436="","",VLOOKUP(D436,'HK1'!D436:AF505,15,0)+VLOOKUP(D436,'HK2'!D436:AF505,15,0)) | S436: =IF(D436="","",VLOOKUP(D436,'HK1'!D436:AF505,16,0)+VLOOKUP(D436,'HK2'!D436:AF505,16,0)) | T436: =IF(D436="","",VLOOKUP(D436,'HK1'!D436:AF505,17,0)+VLOOKUP(D436,'HK2'!D436:AF505,17,0)) | U436: =IF(D436="","",VLOOKUP(D436,'HK1'!D436:AF505,18,0)+VLOOKUP(D436,'HK2'!D436:AF505,18,0)) | V436: =IF(D436="","",VLOOKUP(D436,'HK1'!D436:AF505,19,0)+VLOOKUP(D436,'HK2'!D436:AF505,19,0)) | W436: =IF(D436="","",VLOOKUP(D436,'HK1'!D436:AF505,20,0)+VLOOKUP(D436,'HK2'!D436:AF505,20,0)) | X436: =IF(D436="","",VLOOKUP(D436,'HK1'!D436:AF505,21,0)+VLOOKUP(D436,'HK2'!D436:AF505,21,0)) | Y436: =IF(D436="","",VLOOKUP(D436,'HK1'!D436:AF505,22,0)+VLOOKUP(D436,'HK2'!D436:AF505,22,0)) | Z436: =IF(D436="","",VLOOKUP(D436,'HK1'!D436:AF505,23,0)+VLOOKUP(D436,'HK2'!D436:AF505,23,0)) | AA436: =IF(D436="","",VLOOKUP(D436,'HK1'!D436:AF505,24,0)+VLOOKUP(D436,'HK2'!D436:AF505,24,0)) | AB436: =IF(D436="","",VLOOKUP(D436,'HK1'!D436:AF505,25,0)+VLOOKUP(D436,'HK2'!D436:AF505,25,0)) | AC436: =IF(D436="","",VLOOKUP(D436,'HK1'!D436:AF505,26,0)+VLOOKUP(D436,'HK2'!D436:AF505,26,0)) | AD436: =IF(D436="","",VLOOKUP(D436,'HK1'!D436:AF505,27,0)+VLOOKUP(D436,'HK2'!D436:AF505,27,0)) | AE436: =IF(D436="","",VLOOKUP(D436,'HK1'!D436:AF505,28,0)+VLOOKUP(D436,'HK2'!D436:AF505,28,0)) | AF436: =IF(D436="","",VLOOKUP(D436,'HK1'!D436:AF505,29,0)+VLOOKUP(D436,'HK2'!D436:AF505,29,0)) | AG436: =IF(AF436="","",ROUND(AF436*10/3,1))
A437: =IF(D437="","",SUBTOTAL(3,$D$4:D437)) | E437: =IF(D437="","",VLOOKUP(D437,'HK1'!D437:AF506,2,0)+VLOOKUP(D437,'HK2'!D437:AF506,2,0)) | F437: =IF(D437="","",VLOOKUP(D437,'HK1'!D437:AF506,3,0)+VLOOKUP(D437,'HK2'!D437:AF506,3,0)) | G437: =IF(D437="","",VLOOKUP(D437,'HK1'!D437:AF506,4,0)+VLOOKUP(D437,'HK2'!D437:AF506,4,0)) | H437: =IF(D437="","",VLOOKUP(D437,'HK1'!D437:AF506,5,0)+VLOOKUP(D437,'HK2'!D437:AF506,5,0)) | I437: =IF(D437="","",VLOOKUP(D437,'HK1'!D437:AF506,6,0)+VLOOKUP(D437,'HK2'!D437:AF506,6,0)) | J437: =IF(D437="","",VLOOKUP(D437,'HK1'!D437:AF506,7,0)+VLOOKUP(D437,'HK2'!D437:AF506,7,0)) | K437: =IF(D437="","",VLOOKUP(D437,'HK1'!D437:AF506,8,0)+VLOOKUP(D437,'HK2'!D437:AF506,8,0)) | L437: =IF(D437="","",VLOOKUP(D437,'HK1'!D437:AF506,9,0)+VLOOKUP(D437,'HK2'!D437:AF506,9,0)) | M437: =IF(D437="","",VLOOKUP(D437,'HK1'!D437:AF506,10,0)+VLOOKUP(D437,'HK2'!D437:AF506,10,0)) | N437: =IF(D437="","",VLOOKUP(D437,'HK1'!D437:AF506,11,0)+VLOOKUP(D437,'HK2'!D437:AF506,11,0)) | O437: =IF(D437="","",VLOOKUP(D437,'HK1'!D437:AF506,12,0)+VLOOKUP(D437,'HK2'!D437:AF506,12,0)) | P437: =IF(D437="","",VLOOKUP(D437,'HK1'!D437:AF506,13,0)+VLOOKUP(D437,'HK2'!D437:AF506,13,0)) | Q437: =IF(D437="","",VLOOKUP(D437,'HK1'!D437:AF506,14,0)+VLOOKUP(D437,'HK2'!D437:AF506,14,0)) | R437: =IF(D437="","",VLOOKUP(D437,'HK1'!D437:AF506,15,0)+VLOOKUP(D437,'HK2'!D437:AF506,15,0)) | S437: =IF(D437="","",VLOOKUP(D437,'HK1'!D437:AF506,16,0)+VLOOKUP(D437,'HK2'!D437:AF506,16,0)) | T437: =IF(D437="","",VLOOKUP(D437,'HK1'!D437:AF506,17,0)+VLOOKUP(D437,'HK2'!D437:AF506,17,0)) | U437: =IF(D437="","",VLOOKUP(D437,'HK1'!D437:AF506,18,0)+VLOOKUP(D437,'HK2'!D437:AF506,18,0)) | V437: =IF(D437="","",VLOOKUP(D437,'HK1'!D437:AF506,19,0)+VLOOKUP(D437,'HK2'!D437:AF506,19,0)) | W437: =IF(D437="","",VLOOKUP(D437,'HK1'!D437:AF506,20,0)+VLOOKUP(D437,'HK2'!D437:AF506,20,0)) | X437: =IF(D437="","",VLOOKUP(D437,'HK1'!D437:AF506,21,0)+VLOOKUP(D437,'HK2'!D437:AF506,21,0)) | Y437: =IF(D437="","",VLOOKUP(D437,'HK1'!D437:AF506,22,0)+VLOOKUP(D437,'HK2'!D437:AF506,22,0)) | Z437: =IF(D437="","",VLOOKUP(D437,'HK1'!D437:AF506,23,0)+VLOOKUP(D437,'HK2'!D437:AF506,23,0)) | AA437: =IF(D437="","",VLOOKUP(D437,'HK1'!D437:AF506,24,0)+VLOOKUP(D437,'HK2'!D437:AF506,24,0)) | AB437: =IF(D437="","",VLOOKUP(D437,'HK1'!D437:AF506,25,0)+VLOOKUP(D437,'HK2'!D437:AF506,25,0)) | AC437: =IF(D437="","",VLOOKUP(D437,'HK1'!D437:AF506,26,0)+VLOOKUP(D437,'HK2'!D437:AF506,26,0)) | AD437: =IF(D437="","",VLOOKUP(D437,'HK1'!D437:AF506,27,0)+VLOOKUP(D437,'HK2'!D437:AF506,27,0)) | AE437: =IF(D437="","",VLOOKUP(D437,'HK1'!D437:AF506,28,0)+VLOOKUP(D437,'HK2'!D437:AF506,28,0)) | AF437: =IF(D437="","",VLOOKUP(D437,'HK1'!D437:AF506,29,0)+VLOOKUP(D437,'HK2'!D437:AF506,29,0)) | AG437: =IF(AF437="","",ROUND(AF437*10/3,1))
A438: =IF(D438="","",SUBTOTAL(3,$D$4:D438)) | E438: =IF(D438="","",VLOOKUP(D438,'HK1'!D438:AF507,2,0)+VLOOKUP(D438,'HK2'!D438:AF507,2,0)) | F438: =IF(D438="","",VLOOKUP(D438,'HK1'!D438:AF507,3,0)+VLOOKUP(D438,'HK2'!D438:AF507,3,0)) | G438: =IF(D438="","",VLOOKUP(D438,'HK1'!D438:AF507,4,0)+VLOOKUP(D438,'HK2'!D438:AF507,4,0)) | H438: =IF(D438="","",VLOOKUP(D438,'HK1'!D438:AF507,5,0)+VLOOKUP(D438,'HK2'!D438:AF507,5,0)) | I438: =IF(D438="","",VLOOKUP(D438,'HK1'!D438:AF507,6,0)+VLOOKUP(D438,'HK2'!D438:AF507,6,0)) | J438: =IF(D438="","",VLOOKUP(D438,'HK1'!D438:AF507,7,0)+VLOOKUP(D438,'HK2'!D438:AF507,7,0)) | K438: =IF(D438="","",VLOOKUP(D438,'HK1'!D438:AF507,8,0)+VLOOKUP(D438,'HK2'!D438:AF507,8,0)) | L438: =IF(D438="","",VLOOKUP(D438,'HK1'!D438:AF507,9,0)+VLOOKUP(D438,'HK2'!D438:AF507,9,0)) | M438: =IF(D438="","",VLOOKUP(D438,'HK1'!D438:AF507,10,0)+VLOOKUP(D438,'HK2'!D438:AF507,10,0)) | N438: =IF(D438="","",VLOOKUP(D438,'HK1'!D438:AF507,11,0)+VLOOKUP(D438,'HK2'!D438:AF507,11,0)) | O438: =IF(D438="","",VLOOKUP(D438,'HK1'!D438:AF507,12,0)+VLOOKUP(D438,'HK2'!D438:AF507,12,0)) | P438: =IF(D438="","",VLOOKUP(D438,'HK1'!D438:AF507,13,0)+VLOOKUP(D438,'HK2'!D438:AF507,13,0)) | Q438: =IF(D438="","",VLOOKUP(D438,'HK1'!D438:AF507,14,0)+VLOOKUP(D438,'HK2'!D438:AF507,14,0)) | R438: =IF(D438="","",VLOOKUP(D438,'HK1'!D438:AF507,15,0)+VLOOKUP(D438,'HK2'!D438:AF507,15,0)) | S438: =IF(D438="","",VLOOKUP(D438,'HK1'!D438:AF507,16,0)+VLOOKUP(D438,'HK2'!D438:AF507,16,0)) | T438: =IF(D438="","",VLOOKUP(D438,'HK1'!D438:AF507,17,0)+VLOOKUP(D438,'HK2'!D438:AF507,17,0)) | U438: =IF(D438="","",VLOOKUP(D438,'HK1'!D438:AF507,18,0)+VLOOKUP(D438,'HK2'!D438:AF507,18,0)) | V438: =IF(D438="","",VLOOKUP(D438,'HK1'!D438:AF507,19,0)+VLOOKUP(D438,'HK2'!D438:AF507,19,0)) | W438: =IF(D438="","",VLOOKUP(D438,'HK1'!D438:AF507,20,0)+VLOOKUP(D438,'HK2'!D438:AF507,20,0)) | X438: =IF(D438="","",VLOOKUP(D438,'HK1'!D438:AF507,21,0)+VLOOKUP(D438,'HK2'!D438:AF507,21,0)) | Y438: =IF(D438="","",VLOOKUP(D438,'HK1'!D438:AF507,22,0)+VLOOKUP(D438,'HK2'!D438:AF507,22,0)) | Z438: =IF(D438="","",VLOOKUP(D438,'HK1'!D438:AF507,23,0)+VLOOKUP(D438,'HK2'!D438:AF507,23,0)) | AA438: =IF(D438="","",VLOOKUP(D438,'HK1'!D438:AF507,24,0)+VLOOKUP(D438,'HK2'!D438:AF507,24,0)) | AB438: =IF(D438="","",VLOOKUP(D438,'HK1'!D438:AF507,25,0)+VLOOKUP(D438,'HK2'!D438:AF507,25,0)) | AC438: =IF(D438="","",VLOOKUP(D438,'HK1'!D438:AF507,26,0)+VLOOKUP(D438,'HK2'!D438:AF507,26,0)) | AD438: =IF(D438="","",VLOOKUP(D438,'HK1'!D438:AF507,27,0)+VLOOKUP(D438,'HK2'!D438:AF507,27,0)) | AE438: =IF(D438="","",VLOOKUP(D438,'HK1'!D438:AF507,28,0)+VLOOKUP(D438,'HK2'!D438:AF507,28,0)) | AF438: =IF(D438="","",VLOOKUP(D438,'HK1'!D438:AF507,29,0)+VLOOKUP(D438,'HK2'!D438:AF507,29,0)) | AG438: =IF(AF438="","",ROUND(AF438*10/3,1))
A439: =IF(D439="","",SUBTOTAL(3,$D$4:D439)) | E439: =IF(D439="","",VLOOKUP(D439,'HK1'!D439:AF508,2,0)+VLOOKUP(D439,'HK2'!D439:AF508,2,0)) | F439: =IF(D439="","",VLOOKUP(D439,'HK1'!D439:AF508,3,0)+VLOOKUP(D439,'HK2'!D439:AF508,3,0)) | G439: =IF(D439="","",VLOOKUP(D439,'HK1'!D439:AF508,4,0)+VLOOKUP(D439,'HK2'!D439:AF508,4,0)) | H439: =IF(D439="","",VLOOKUP(D439,'HK1'!D439:AF508,5,0)+VLOOKUP(D439,'HK2'!D439:AF508,5,0)) | I439: =IF(D439="","",VLOOKUP(D439,'HK1'!D439:AF508,6,0)+VLOOKUP(D439,'HK2'!D439:AF508,6,0)) | J439: =IF(D439="","",VLOOKUP(D439,'HK1'!D439:AF508,7,0)+VLOOKUP(D439,'HK2'!D439:AF508,7,0)) | K439: =IF(D439="","",VLOOKUP(D439,'HK1'!D439:AF508,8,0)+VLOOKUP(D439,'HK2'!D439:AF508,8,0)) | L439: =IF(D439="","",VLOOKUP(D439,'HK1'!D439:AF508,9,0)+VLOOKUP(D439,'HK2'!D439:AF508,9,0)) | M439: =IF(D439="","",VLOOKUP(D439,'HK1'!D439:AF508,10,0)+VLOOKUP(D439,'HK2'!D439:AF508,10,0)) | N439: =IF(D439="","",VLOOKUP(D439,'HK1'!D439:AF508,11,0)+VLOOKUP(D439,'HK2'!D439:AF508,11,0)) | O439: =IF(D439="","",VLOOKUP(D439,'HK1'!D439:AF508,12,0)+VLOOKUP(D439,'HK2'!D439:AF508,12,0)) | P439: =IF(D439="","",VLOOKUP(D439,'HK1'!D439:AF508,13,0)+VLOOKUP(D439,'HK2'!D439:AF508,13,0)) | Q439: =IF(D439="","",VLOOKUP(D439,'HK1'!D439:AF508,14,0)+VLOOKUP(D439,'HK2'!D439:AF508,14,0)) | R439: =IF(D439="","",VLOOKUP(D439,'HK1'!D439:AF508,15,0)+VLOOKUP(D439,'HK2'!D439:AF508,15,0)) | S439: =IF(D439="","",VLOOKUP(D439,'HK1'!D439:AF508,16,0)+VLOOKUP(D439,'HK2'!D439:AF508,16,0)) | T439: =IF(D439="","",VLOOKUP(D439,'HK1'!D439:AF508,17,0)+VLOOKUP(D439,'HK2'!D439:AF508,17,0)) | U439: =IF(D439="","",VLOOKUP(D439,'HK1'!D439:AF508,18,0)+VLOOKUP(D439,'HK2'!D439:AF508,18,0)) | V439: =IF(D439="","",VLOOKUP(D439,'HK1'!D439:AF508,19,0)+VLOOKUP(D439,'HK2'!D439:AF508,19,0)) | W439: =IF(D439="","",VLOOKUP(D439,'HK1'!D439:AF508,20,0)+VLOOKUP(D439,'HK2'!D439:AF508,20,0)) | X439: =IF(D439="","",VLOOKUP(D439,'HK1'!D439:AF508,21,0)+VLOOKUP(D439,'HK2'!D439:AF508,21,0)) | Y439: =IF(D439="","",VLOOKUP(D439,'HK1'!D439:AF508,22,0)+VLOOKUP(D439,'HK2'!D439:AF508,22,0)) | Z439: =IF(D439="","",VLOOKUP(D439,'HK1'!D439:AF508,23,0)+VLOOKUP(D439,'HK2'!D439:AF508,23,0)) | AA439: =IF(D439="","",VLOOKUP(D439,'HK1'!D439:AF508,24,0)+VLOOKUP(D439,'HK2'!D439:AF508,24,0)) | AB439: =IF(D439="","",VLOOKUP(D439,'HK1'!D439:AF508,25,0)+VLOOKUP(D439,'HK2'!D439:AF508,25,0)) | AC439: =IF(D439="","",VLOOKUP(D439,'HK1'!D439:AF508,26,0)+VLOOKUP(D439,'HK2'!D439:AF508,26,0)) | AD439: =IF(D439="","",VLOOKUP(D439,'HK1'!D439:AF508,27,0)+VLOOKUP(D439,'HK2'!D439:AF508,27,0)) | AE439: =IF(D439="","",VLOOKUP(D439,'HK1'!D439:AF508,28,0)+VLOOKUP(D439,'HK2'!D439:AF508,28,0)) | AF439: =IF(D439="","",VLOOKUP(D439,'HK1'!D439:AF508,29,0)+VLOOKUP(D439,'HK2'!D439:AF508,29,0)) | AG439: =IF(AF439="","",ROUND(AF439*10/3,1))
A440: =IF(D440="","",SUBTOTAL(3,$D$4:D440)) | E440: =IF(D440="","",VLOOKUP(D440,'HK1'!D440:AF509,2,0)+VLOOKUP(D440,'HK2'!D440:AF509,2,0)) | F440: =IF(D440="","",VLOOKUP(D440,'HK1'!D440:AF509,3,0)+VLOOKUP(D440,'HK2'!D440:AF509,3,0)) | G440: =IF(D440="","",VLOOKUP(D440,'HK1'!D440:AF509,4,0)+VLOOKUP(D440,'HK2'!D440:AF509,4,0)) | H440: =IF(D440="","",VLOOKUP(D440,'HK1'!D440:AF509,5,0)+VLOOKUP(D440,'HK2'!D440:AF509,5,0)) | I440: =IF(D440="","",VLOOKUP(D440,'HK1'!D440:AF509,6,0)+VLOOKUP(D440,'HK2'!D440:AF509,6,0)) | J440: =IF(D440="","",VLOOKUP(D440,'HK1'!D440:AF509,7,0)+VLOOKUP(D440,'HK2'!D440:AF509,7,0)) | K440: =IF(D440="","",VLOOKUP(D440,'HK1'!D440:AF509,8,0)+VLOOKUP(D440,'HK2'!D440:AF509,8,0)) | L440: =IF(D440="","",VLOOKUP(D440,'HK1'!D440:AF509,9,0)+VLOOKUP(D440,'HK2'!D440:AF509,9,0)) | M440: =IF(D440="","",VLOOKUP(D440,'HK1'!D440:AF509,10,0)+VLOOKUP(D440,'HK2'!D440:AF509,10,0)) | N440: =IF(D440="","",VLOOKUP(D440,'HK1'!D440:AF509,11,0)+VLOOKUP(D440,'HK2'!D440:AF509,11,0)) | O440: =IF(D440="","",VLOOKUP(D440,'HK1'!D440:AF509,12,0)+VLOOKUP(D440,'HK2'!D440:AF509,12,0)) | P440: =IF(D440="","",VLOOKUP(D440,'HK1'!D440:AF509,13,0)+VLOOKUP(D440,'HK2'!D440:AF509,13,0)) | Q440: =IF(D440="","",VLOOKUP(D440,'HK1'!D440:AF509,14,0)+VLOOKUP(D440,'HK2'!D440:AF509,14,0)) | R440: =IF(D440="","",VLOOKUP(D440,'HK1'!D440:AF509,15,0)+VLOOKUP(D440,'HK2'!D440:AF509,15,0)) | S440: =IF(D440="","",VLOOKUP(D440,'HK1'!D440:AF509,16,0)+VLOOKUP(D440,'HK2'!D440:AF509,16,0)) | T440: =IF(D440="","",VLOOKUP(D440,'HK1'!D440:AF509,17,0)+VLOOKUP(D440,'HK2'!D440:AF509,17,0)) | U440: =IF(D440="","",VLOOKUP(D440,'HK1'!D440:AF509,18,0)+VLOOKUP(D440,'HK2'!D440:AF509,18,0)) | V440: =IF(D440="","",VLOOKUP(D440,'HK1'!D440:AF509,19,0)+VLOOKUP(D440,'HK2'!D440:AF509,19,0)) | W440: =IF(D440="","",VLOOKUP(D440,'HK1'!D440:AF509,20,0)+VLOOKUP(D440,'HK2'!D440:AF509,20,0)) | X440: =IF(D440="","",VLOOKUP(D440,'HK1'!D440:AF509,21,0)+VLOOKUP(D440,'HK2'!D440:AF509,21,0)) | Y440: =IF(D440="","",VLOOKUP(D440,'HK1'!D440:AF509,22,0)+VLOOKUP(D440,'HK2'!D440:AF509,22,0)) | Z440: =IF(D440="","",VLOOKUP(D440,'HK1'!D440:AF509,23,0)+VLOOKUP(D440,'HK2'!D440:AF509,23,0)) | AA440: =IF(D440="","",VLOOKUP(D440,'HK1'!D440:AF509,24,0)+VLOOKUP(D440,'HK2'!D440:AF509,24,0)) | AB440: =IF(D440="","",VLOOKUP(D440,'HK1'!D440:AF509,25,0)+VLOOKUP(D440,'HK2'!D440:AF509,25,0)) | AC440: =IF(D440="","",VLOOKUP(D440,'HK1'!D440:AF509,26,0)+VLOOKUP(D440,'HK2'!D440:AF509,26,0)) | AD440: =IF(D440="","",VLOOKUP(D440,'HK1'!D440:AF509,27,0)+VLOOKUP(D440,'HK2'!D440:AF509,27,0)) | AE440: =IF(D440="","",VLOOKUP(D440,'HK1'!D440:AF509,28,0)+VLOOKUP(D440,'HK2'!D440:AF509,28,0)) | AF440: =IF(D440="","",VLOOKUP(D440,'HK1'!D440:AF509,29,0)+VLOOKUP(D440,'HK2'!D440:AF509,29,0)) | AG440: =IF(AF440="","",ROUND(AF440*10/3,1))
A441: =IF(D441="","",SUBTOTAL(3,$D$4:D441)) | E441: =IF(D441="","",VLOOKUP(D441,'HK1'!D441:AF510,2,0)+VLOOKUP(D441,'HK2'!D441:AF510,2,0)) | F441: =IF(D441="","",VLOOKUP(D441,'HK1'!D441:AF510,3,0)+VLOOKUP(D441,'HK2'!D441:AF510,3,0)) | G441: =IF(D441="","",VLOOKUP(D441,'HK1'!D441:AF510,4,0)+VLOOKUP(D441,'HK2'!D441:AF510,4,0)) | H441: =IF(D441="","",VLOOKUP(D441,'HK1'!D441:AF510,5,0)+VLOOKUP(D441,'HK2'!D441:AF510,5,0)) | I441: =IF(D441="","",VLOOKUP(D441,'HK1'!D441:AF510,6,0)+VLOOKUP(D441,'HK2'!D441:AF510,6,0)) | J441: =IF(D441="","",VLOOKUP(D441,'HK1'!D441:AF510,7,0)+VLOOKUP(D441,'HK2'!D441:AF510,7,0)) | K441: =IF(D441="","",VLOOKUP(D441,'HK1'!D441:AF510,8,0)+VLOOKUP(D441,'HK2'!D441:AF510,8,0)) | L441: =IF(D441="","",VLOOKUP(D441,'HK1'!D441:AF510,9,0)+VLOOKUP(D441,'HK2'!D441:AF510,9,0)) | M441: =IF(D441="","",VLOOKUP(D441,'HK1'!D441:AF510,10,0)+VLOOKUP(D441,'HK2'!D441:AF510,10,0)) | N441: =IF(D441="","",VLOOKUP(D441,'HK1'!D441:AF510,11,0)+VLOOKUP(D441,'HK2'!D441:AF510,11,0)) | O441: =IF(D441="","",VLOOKUP(D441,'HK1'!D441:AF510,12,0)+VLOOKUP(D441,'HK2'!D441:AF510,12,0)) | P441: =IF(D441="","",VLOOKUP(D441,'HK1'!D441:AF510,13,0)+VLOOKUP(D441,'HK2'!D441:AF510,13,0)) | Q441: =IF(D441="","",VLOOKUP(D441,'HK1'!D441:AF510,14,0)+VLOOKUP(D441,'HK2'!D441:AF510,14,0)) | R441: =IF(D441="","",VLOOKUP(D441,'HK1'!D441:AF510,15,0)+VLOOKUP(D441,'HK2'!D441:AF510,15,0)) | S441: =IF(D441="","",VLOOKUP(D441,'HK1'!D441:AF510,16,0)+VLOOKUP(D441,'HK2'!D441:AF510,16,0)) | T441: =IF(D441="","",VLOOKUP(D441,'HK1'!D441:AF510,17,0)+VLOOKUP(D441,'HK2'!D441:AF510,17,0)) | U441: =IF(D441="","",VLOOKUP(D441,'HK1'!D441:AF510,18,0)+VLOOKUP(D441,'HK2'!D441:AF510,18,0)) | V441: =IF(D441="","",VLOOKUP(D441,'HK1'!D441:AF510,19,0)+VLOOKUP(D441,'HK2'!D441:AF510,19,0)) | W441: =IF(D441="","",VLOOKUP(D441,'HK1'!D441:AF510,20,0)+VLOOKUP(D441,'HK2'!D441:AF510,20,0)) | X441: =IF(D441="","",VLOOKUP(D441,'HK1'!D441:AF510,21,0)+VLOOKUP(D441,'HK2'!D441:AF510,21,0)) | Y441: =IF(D441="","",VLOOKUP(D441,'HK1'!D441:AF510,22,0)+VLOOKUP(D441,'HK2'!D441:AF510,22,0)) | Z441: =IF(D441="","",VLOOKUP(D441,'HK1'!D441:AF510,23,0)+VLOOKUP(D441,'HK2'!D441:AF510,23,0)) | AA441: =IF(D441="","",VLOOKUP(D441,'HK1'!D441:AF510,24,0)+VLOOKUP(D441,'HK2'!D441:AF510,24,0)) | AB441: =IF(D441="","",VLOOKUP(D441,'HK1'!D441:AF510,25,0)+VLOOKUP(D441,'HK2'!D441:AF510,25,0)) | AC441: =IF(D441="","",VLOOKUP(D441,'HK1'!D441:AF510,26,0)+VLOOKUP(D441,'HK2'!D441:AF510,26,0)) | AD441: =IF(D441="","",VLOOKUP(D441,'HK1'!D441:AF510,27,0)+VLOOKUP(D441,'HK2'!D441:AF510,27,0)) | AE441: =IF(D441="","",VLOOKUP(D441,'HK1'!D441:AF510,28,0)+VLOOKUP(D441,'HK2'!D441:AF510,28,0)) | AF441: =IF(D441="","",VLOOKUP(D441,'HK1'!D441:AF510,29,0)+VLOOKUP(D441,'HK2'!D441:AF510,29,0)) | AG441: =IF(AF441="","",ROUND(AF441*10/3,1))
... A500: =IF(D500="","",SUBTOTAL(3,$D$4:D500)) | E500: =IF(D500="","",VLOOKUP(D500,'HK1'!D500:AF569,2,0)+VLOOKUP(D500,'HK2'!D500:AF569,2,0)) | F500: =IF(D500="","",VLOOKUP(D500,'HK1'!D500:AF569,3,0)+VLOOKUP(D500,'HK2'!D500:AF569,3,0)) | G500: =IF(D500="","",VLOOKUP(D500,'HK1'!D500:AF569,4,0)+VLOOKUP(D500,'HK2'!D500:AF569,4,0)) | H500: =IF(D500="","",VLOOKUP(D500,'HK1'!D500:AF569,5,0)+VLOOKUP(D500,'HK2'!D500:AF569,5,0)) | I500: =IF(D500="","",VLOOKUP(D500,'HK1'!D500:AF569,6,0)+VLOOKUP(D500,'HK2'!D500:AF569,6,0)) | J500: =IF(D500="","",VLOOKUP(D500,'HK1'!D500:AF569,7,0)+VLOOKUP(D500,'HK2'!D500:AF569,7,0)) | K500: =IF(D500="","",VLOOKUP(D500,'HK1'!D500:AF569,8,0)+VLOOKUP(D500,'HK2'!D500:AF569,8,0)) | L500: =IF(D500="","",VLOOKUP(D500,'HK1'!D500:AF569,9,0)+VLOOKUP(D500,'HK2'!D500:AF569,9,0)) | M500: =IF(D500="","",VLOOKUP(D500,'HK1'!D500:AF569,10,0)+VLOOKUP(D500,'HK2'!D500:AF569,10,0)) | N500: =IF(D500="","",VLOOKUP(D500,'HK1'!D500:AF569,11,0)+VLOOKUP(D500,'HK2'!D500:AF569,11,0)) | O500: =IF(D500="","",VLOOKUP(D500,'HK1'!D500:AF569,12,0)+VLOOKUP(D500,'HK2'!D500:AF569,12,0)) | P500: =IF(D500="","",VLOOKUP(D500,'HK1'!D500:AF569,13,0)+VLOOKUP(D500,'HK2'!D500:AF569,13,0)) | Q500: =IF(D500="","",VLOOKUP(D500,'HK1'!D500:AF569,14,0)+VLOOKUP(D500,'HK2'!D500:AF569,14,0)) | R500: =IF(D500="","",VLOOKUP(D500,'HK1'!D500:AF569,15,0)+VLOOKUP(D500,'HK2'!D500:AF569,15,0)) | S500: =IF(D500="","",VLOOKUP(D500,'HK1'!D500:AF569,16,0)+VLOOKUP(D500,'HK2'!D500:AF569,16,0)) | T500: =IF(D500="","",VLOOKUP(D500,'HK1'!D500:AF569,17,0)+VLOOKUP(D500,'HK2'!D500:AF569,17,0)) | U500: =IF(D500="","",VLOOKUP(D500,'HK1'!D500:AF569,18,0)+VLOOKUP(D500,'HK2'!D500:AF569,18,0)) | V500: =IF(D500="","",VLOOKUP(D500,'HK1'!D500:AF569,19,0)+VLOOKUP(D500,'HK2'!D500:AF569,19,0)) | W500: =IF(D500="","",VLOOKUP(D500,'HK1'!D500:AF569,20,0)+VLOOKUP(D500,'HK2'!D500:AF569,20,0)) | X500: =IF(D500="","",VLOOKUP(D500,'HK1'!D500:AF569,21,0)+VLOOKUP(D500,'HK2'!D500:AF569,21,0)) | Y500: =IF(D500="","",VLOOKUP(D500,'HK1'!D500:AF569,22,0)+VLOOKUP(D500,'HK2'!D500:AF569,22,0)) | Z500: =IF(D500="","",VLOOKUP(D500,'HK1'!D500:AF569,23,0)+VLOOKUP(D500,'HK2'!D500:AF569,23,0)) | AA500: =IF(D500="","",VLOOKUP(D500,'HK1'!D500:AF569,24,0)+VLOOKUP(D500,'HK2'!D500:AF569,24,0)) | AB500: =IF(D500="","",VLOOKUP(D500,'HK1'!D500:AF569,25,0)+VLOOKUP(D500,'HK2'!D500:AF569,25,0)) | AC500: =IF(D500="","",VLOOKUP(D500,'HK1'!D500:AF569,26,0)+VLOOKUP(D500,'HK2'!D500:AF569,26,0)) | AD500: =IF(D500="","",VLOOKUP(D500,'HK1'!D500:AF569,27,0)+VLOOKUP(D500,'HK2'!D500:AF569,27,0)) | AE500: =IF(D500="","",VLOOKUP(D500,'HK1'!D500:AF569,28,0)+VLOOKUP(D500,'HK2'!D500:AF569,28,0)) | AF500: =IF(D500="","",VLOOKUP(D500,'HK1'!D500:AF569,29,0)+VLOOKUP(D500,'HK2'!D500:AF569,29,0)) | AG500: =IF(AF500="","",ROUND(AF500*10/3,1))
E501: =SUBTOTAL(9,E2:E500) -> 615 | F501: =SUBTOTAL(9,F2:F500) -> 163 | G501: =SUBTOTAL(9,G2:G500) -> 16 | H501: =SUBTOTAL(9,H2:H500) -> 8 | I501: =SUBTOTAL(9,I2:I500) -> 1005 | J501: =SUBTOTAL(9,J2:J500) -> 1880.4 | K501: =SUBTOTAL(9,K2:K500) -> 1876.8 | L501: =SUBTOTAL(9,L2:L500) -> 17.6 | ... AF501: =SUBTOTAL(9,AF2:AF500) -> 9777.9
